Workbook

Sheet MOH x Headcount
A1: SUMMARY OUTPUT
A3: Regression Statistics
A4: Multiple R | B4: 0.11239454
A5: R Square | B5: 0.012632533
A6: Adjusted R Square | B6: 0.010649867
A7: Standard Error | B7: 1240.1059
A8: Observations | B8: 500
A10: ANOVA
B11: df | C11: SS | D11: MS | E11: F | F11: Significance F
A12: Regression | B12: 1 | C12: 9798475.4 | D12: 9798475.4 | E12: 6.3714894 | F12: 0.011906573
A13: Residual | B13: 498 | C13: 7.6585559e+08 | D13: 1537862.6
A14: Total | B14: 499 | C14: 775654064
B16: Coefficients | C16: Standard Error | D16: t Stat | E16: P-value | F16: Lower 95% | G16: Upper 95% | H16: Lower 95.0% | I16: Upper 95.0%
A17: Intercept | B17: 3298.1081 | C17: 172.34537 | D17: 19.136621 | E17: 1.3497398e-61 | F17: 2959.4944 | G17: 3636.7218 | H17: 2959.4944 | I17: 3636.7218
A18: Headcount | B18: 111.02208 | C18: 43.983407 | D18: 2.5241809 | E18: 0.011906573 | F18: 24.606163 | G18: 197.43799 | H18: 24.606163 | I18: 197.43799

Sheet MOH x Machine Hours
A1: SUMMARY OUTPUT
A3: Regression Statistics
A4: Multiple R | B4: 0.95580546
A5: R Square | B5: 0.91356407
A6: Adjusted R Square | B6: 0.9133905
A7: Standard Error | B7: 366.91589
A8: Observations | B8: 500
A10: ANOVA
B11: df | C11: SS | D11: MS | E11: F | F11: Significance F
A12: Regression | B12: 1 | C12: 7.0860968e+08 | D12: 7.0860968e+08 | E12: 5263.4928 | F12: 6.4497193e-267
A13: Residual | B13: 498 | C13: 67044382 | D13: 134627.27
A14: Total | B14: 499 | C14: 775654064
B16: Coefficients | C16: Standard Error | D16: t Stat | E16: P-value | F16: Lower 95% | G16: Upper 95% | H16: Lower 95.0% | I16: Upper 95.0%
A17: Intercept | B17: 1149.4156 | C17: 38.922074 | D17: 29.5312 | E17: 1.6223608e-111 | F17: 1072.9439 | G17: 1225.8873 | H17: 1072.9439 | I17: 1225.8873
A18: Machine Hours | B18: 47.425256 | C18: 0.65369124 | D18: 72.549933 | E18: 6.4497193e-267 | F18: 46.140924 | G18: 48.709589 | H18: 46.140924 | I18: 48.709589

Sheet Production Data
A1: Production Run | B1: Direct Materials | C1: Direct Labor | D1: Manufacturing Overhead | E1: Direct Labor Hours | F1: Headcount | G1: Machine Hours | H1: MOH Estimate based off 1000 Prediction | I1: Percent difference from actual | J1: MOH Estimate based off Machine Hours regression | K1: Percent difference from actual | M1: Proposed Manufacturing Overhead rate | N1: =SUM(D2:D501)/SUM(F2:F501) -> 1000
A2: 1 | B2: 5000 | C2: 2508.625 | D2: 5548 | E2: 122 | F2: 3 | G2: 86 | H2: =F2*1000 -> 3000 | I2: =(D2-H2)/D2 -> 0.4592646 | J2: ='MOH x Machine Hours'!$B$17+'MOH x Machine Hours'!$B$18*'Production Data'!G2 -> 5227.9876 | K2: =(D2-J2)/D2 -> 0.057680678
A3: 2 | B3: 6000 | C3: 2919.875 | D3: 2888 | E3: 142 | F3: 4 | G3: 42 | H3: =F3*1000 -> 4000 | I3: =(D3-H3)/D3 -> -0.38504155 | J3: ='MOH x Machine Hours'!$B$17+'MOH x Machine Hours'!$B$18*'Production Data'!G3 -> 3141.2763 | K3: =(D3-J3)/D3 -> -0.087699559
A4: 3 | B4: 5500 | C4: 2652.5625 | D4: 4854 | E4: 129 | F4: 3 | G4: 74 | H4: =F4*1000 -> 3000 | I4: =(D4-H4)/D4 -> 0.38195303 | J4: ='MOH x Machine Hours'!$B$17+'MOH x Machine Hours'!$B$18*'Production Data'!G4 -> 4658.8845 | K4: =(D4-J4)/D4 -> 0.040196843
A5: 4 | B5: 7000 | C5: 3351.6875 | D5: 2251 | E5: 163 | F5: 4 | G5: 28 | H5: =F5*1000 -> 4000 | I5: =(D5-H5)/D5 -> -0.77698801 | J5: ='MOH x Machine Hours'!$B$17+'MOH x Machine Hours'!$B$18*'Production Data'!G5 -> 2477.3227 | K5: =(D5-J5)/D5 -> -0.1005432
A6: 5 | B6: 6500 | C6: 3310.5625 | D6: 3710 | E6: 161 | F6: 4 | G6: 50 | H6: =F6*1000 -> 4000 | I6: =(D6-H6)/D6 -> -0.078167116 | J6: ='MOH x Machine Hours'!$B$17+'MOH x Machine Hours'!$B$18*'Production Data'!G6 -> 3520.6784 | K6: =(D6-J6)/D6 -> 0.051030087
A7: 6 | B7: 7500 | C7: 3454.5 | D7: 2168 | E7: 168 | F7: 4 | G7: 23 | H7: =F7*1000 -> 4000 | I7: =(D7-H7)/D7 -> -0.84501845 | J7: ='MOH x Machine Hours'!$B$17+'MOH x Machine Hours'!$B$18*'Production Data'!G7 -> 2240.1965 | K7: =(D7-J7)/D7 -> -0.03330095
A8: 7 | B8: 8000 | C8: 3968.5625 | D8: 1767 | E8: 193 | F8: 5 | G8: 10 | H8: =F8*1000 -> 5000 | I8: =(D8-H8)/D8 -> -1.8296548 | J8: ='MOH x Machine Hours'!$B$17+'MOH x Machine Hours'!$B$18*'Production Data'!G8 -> 1623.6681 | K8: =(D8-J8)/D8 -> 0.081115943
A9: 8 | B9: 8500 | C9: 3989.125 | D9: 5581 | E9: 194 | F9: 5 | G9: 90 | H9: =F9*1000 -> 5000 | I9: =(D9-H9)/D9 -> 0.10410321 | J9: ='MOH x Machine Hours'!$B$17+'MOH x Machine Hours'!$B$18*'Production Data'!G9 -> 5417.6886 | K9: =(D9-J9)/D9 -> 0.029262027
A10: 9 | B10: 9000 | C10: 4379.8125 | D10: 2803 | E10: 213 | F10: 5 | G10: 33 | H10: =F10*1000 -> 5000 | I10: =(D10-H10)/D10 -> -0.78380307 | J10: ='MOH x Machine Hours'!$B$17+'MOH x Machine Hours'!$B$18*'Production Data'!G10 -> 2714.449 | K10: =(D10-J10)/D10 -> 0.031591501
A11: 10 | B11: 9500 | C11: 4379.8125 | D11: 4476 | E11: 213 | F11: 5 | G11: 68 | H11: =F11*1000 -> 5000 | I11: =(D11-H11)/D11 -> -0.11706881 | J11: ='MOH x Machine Hours'!$B$17+'MOH x Machine Hours'!$B$18*'Production Data'!G11 -> 4374.333 | K11: =(D11-J11)/D11 -> 0.022713809
A12: 11 | B12: 8900 | C12: 4174.1875 | D12: 1765 | E12: 203 | F12: 5 | G12: 18 | H12: =F12*1000 -> 5000 | I12: =(D12-H12)/D12 -> -1.8328612 | J12: ='MOH x Machine Hours'!$B$17+'MOH x Machine Hours'!$B$18*'Production Data'!G12 -> 2003.0702 | K12: =(D12-J12)/D12 -> -0.13488395
A13: 12 | B13: 8300 | C13: 4030.25 | D13: 5590 | E13: 196 | F13: 5 | G13: 92 | H13: =F13*1000 -> 5000 | I13: =(D13-H13)/D13 -> 0.10554562 | J13: ='MOH x Machine Hours'!$B$17+'MOH x Machine Hours'!$B$18*'Production Data'!G13 -> 5512.5391 | K13: =(D13-J13)/D13 -> 0.013857042
... A429: 428 | B429: 4300 | C429: 2097.375 | D429: 3439 | E429: 102 | F429: 3 | G429: 49 | H429: =F429*1000 -> 3000 | I429: =(D429-H429)/D429 -> 0.12765339 | J429: ='MOH x Machine Hours'!$B$17+'MOH x Machine Hours'!$B$18*'Production Data'!G429 -> 3473.2531 | K429: =(D429-J429)/D429 -> -0.009960198
A430: 429 | B430: 4300 | C430: 1974 | D430: =5783-494 -> 5289 | E430: 96 | F430: 2 | G430: 94 | H430: =F430*1000 -> 2000 | I430: =(D430-H430)/D430 -> 0.62185668 | J430: ='MOH x Machine Hours'!$B$17+'MOH x Machine Hours'!$B$18*'Production Data'!G430 -> 5607.3897 | K430: =(D430-J430)/D430 -> -0.060198459
A431: 430 | B431: 6300 | C431: 3084.375 | D431: 2903 | E431: 150 | F431: 4 | G431: 38 | H431: =F431*1000 -> 4000 | I431: =(D431-H431)/D431 -> -0.37788495 | J431: ='MOH x Machine Hours'!$B$17+'MOH x Machine Hours'!$B$18*'Production Data'!G431 -> 2951.5753 | K431: =(D431-J431)/D431 -> -0.016732795
A432: 431 | B432: 3300 | C432: 1686.125 | D432: 3392 | E432: 82 | F432: 2 | G432: 45 | H432: =F432*1000 -> 2000 | I432: =(D432-H432)/D432 -> 0.41037736 | J432: ='MOH x Machine Hours'!$B$17+'MOH x Machine Hours'!$B$18*'Production Data'!G432 -> 3283.5521 | K432: =(D432-J432)/D432 -> 0.03197167
A433: 432 | B433: 5100 | C433: 2652.5625 | D433: 2441 | E433: 129 | F433: 3 | G433: 25 | H433: =F433*1000 -> 3000 | I433: =(D433-H433)/D433 -> -0.22900451 | J433: ='MOH x Machine Hours'!$B$17+'MOH x Machine Hours'!$B$18*'Production Data'!G433 -> 2335.047 | K433: =(D433-J433)/D433 -> 0.043405583
A434: 433 | B434: 2600 | C434: 1357.125 | D434: 4268 | E434: 66 | F434: 2 | G434: 60 | H434: =F434*1000 -> 2000 | I434: =(D434-H434)/D434 -> 0.53139644 | J434: ='MOH x Machine Hours'!$B$17+'MOH x Machine Hours'!$B$18*'Production Data'!G434 -> 3994.9309 | K434: =(D434-J434)/D434 -> 0.063980567
A435: 434 | B435: 9200 | C435: 4462.0625 | D435: 4092 | E435: 217 | F435: 5 | G435: 66 | H435: =F435*1000 -> 5000 | I435: =(D435-H435)/D435 -> -0.22189638 | J435: ='MOH x Machine Hours'!$B$17+'MOH x Machine Hours'!$B$18*'Production Data'!G435 -> 4279.4825 | K435: =(D435-J435)/D435 -> -0.045816832
A436: 435 | B436: 6500 | C436: 3063.8125 | D436: 3449 | E436: 149 | F436: 4 | G436: 50 | H436: =F436*1000 -> 4000 | I436: =(D436-H436)/D436 -> -0.15975645 | J436: ='MOH x Machine Hours'!$B$17+'MOH x Machine Hours'!$B$18*'Production Data'!G436 -> 3520.6784 | K436: =(D436-J436)/D436 -> -0.020782365
A437: 436 | B437: 2700 | C437: 1459.9375 | D437: 2663 | E437: 71 | F437: 2 | G437: 30 | H437: =F437*1000 -> 2000 | I437: =(D437-H437)/D437 -> 0.24896733 | J437: ='MOH x Machine Hours'!$B$17+'MOH x Machine Hours'!$B$18*'Production Data'!G437 -> 2572.1733 | K437: =(D437-J437)/D437 -> 0.034106927
A438: 437 | B438: 2900 | C438: 1398.25 | D438: 4642 | E438: 68 | F438: 2 | G438: 72 | H438: =F438*1000 -> 2000 | I438: =(D438-H438)/D438 -> 0.56915123 | J438: ='MOH x Machine Hours'!$B$17+'MOH x Machine Hours'!$B$18*'Production Data'!G438 -> 4564.034 | K438: =(D438-J438)/D438 -> 0.016795775
A439: 438 | B439: 8300 | C439: 4071.375 | D439: 4142 | E439: 198 | F439: 5 | G439: 67 | H439: =F439*1000 -> 5000 | I439: =(D439-H439)/D439 -> -0.20714631 | J439: ='MOH x Machine Hours'!$B$17+'MOH x Machine Hours'!$B$18*'Production Data'!G439 -> 4326.9077 | K439: =(D439-J439)/D439 -> -0.044642137
A440: 439 | B440: 5900 | C440: 2755.375 | D440: 1556 | E440: 134 | F440: 3 | G440: 14 | H440: =F440*1000 -> 3000 | I440: =(D440-H440)/D440 -> -0.92802057 | J440: ='MOH x Machine Hours'!$B$17+'MOH x Machine Hours'!$B$18*'Production Data'!G440 -> 1813.3692 | K440: =(D440-J440)/D440 -> -0.16540434
A441: 440 | B441: 6700 | C441: 3207.75 | D441: 4190 | E441: 156 | F441: 4 | G441: 62 | H441: =F441*1000 -> 4000 | I441: =(D441-H441)/D441 -> 0.045346062 | J441: ='MOH x Machine Hours'!$B$17+'MOH x Machine Hours'!$B$18*'Production Data'!G441 -> 4089.7815 | K441: =(D441-J441)/D441 -> 0.023918508
A442: 441 | B442: 9100 | C442: 4235.875 | D442: 3367 | E442: 206 | F442: 5 | G442: 46 | H442: =F442*1000 -> 5000 | I442: =(D442-H442)/D442 -> -0.48500149 | J442: ='MOH x Machine Hours'!$B$17+'MOH x Machine Hours'!$B$18*'Production Data'!G442 -> 3330.9774 | K442: =(D442-J442)/D442 -> 0.010698737
... A501: 500 | B501: 4200 | C501: 2097.375 | D501: 2676 | E501: 102 | F501: 3 | G501: 37 | H501: =F501*1000 -> 3000 | I501: =(D501-H501)/D501 -> -0.12107623 | J501: ='MOH x Machine Hours'!$B$17+'MOH x Machine Hours'!$B$18*'Production Data'!G501 -> 2904.15 | K501: =(D501-J501)/D501 -> -0.085257865
