Workbook

Sheet Production Data
A1: Production Run | B1: Direct Materials | C1: Direct Labor | D1: Manufacturing Overhead | E1: Direct Labor Hours | F1: Headcount | G1: Machine Hours | H1: MOH/Headcout | I1: prediction for the Machine hours MOH: | K1: Proposed Manufacturing Overhead rate | L1: =SUM(D2:D501)/SUM(F2:F501) -> 1000
A2: 1 | B2: 5000 | C2: 2508.625 | D2: 5548 | E2: 122 | F2: 3 | G2: 86 | H2: =D2/F2 -> 1849.3333 | I2: ='Machine Hours - MOH'!$B$17+('Machine Hours - MOH'!$B$18*'Production Data'!G2) -> 5227.9876 | K2: Average of all MOH: | L2: =SUM(H2:H501)/COUNT(H2:H501) -> 1138.5491
A3: 2 | B3: 6000 | C3: 2919.875 | D3: 2888 | E3: 142 | F3: 4 | G3: 42 | H3: =D3/F3 -> 722 | I3: ='Machine Hours - MOH'!$B$17+('Machine Hours - MOH'!$B$18*'Production Data'!G3) -> 3141.2763
A4: 3 | B4: 5500 | C4: 2652.5625 | D4: 4854 | E4: 129 | F4: 3 | G4: 74 | H4: =D4/F4 -> 1618 | I4: ='Machine Hours - MOH'!$B$17+('Machine Hours - MOH'!$B$18*'Production Data'!G4) -> 4658.8845
A5: 4 | B5: 7000 | C5: 3351.6875 | D5: 2251 | E5: 163 | F5: 4 | G5: 28 | H5: =D5/F5 -> 562.75 | I5: ='Machine Hours - MOH'!$B$17+('Machine Hours - MOH'!$B$18*'Production Data'!G5) -> 2477.3227
A6: 5 | B6: 6500 | C6: 3310.5625 | D6: 3710 | E6: 161 | F6: 4 | G6: 50 | H6: =D6/F6 -> 927.5 | I6: ='Machine Hours - MOH'!$B$17+('Machine Hours - MOH'!$B$18*'Production Data'!G6) -> 3520.6784
A7: 6 | B7: 7500 | C7: 3454.5 | D7: 2168 | E7: 168 | F7: 4 | G7: 23 | H7: =D7/F7 -> 542 | I7: ='Machine Hours - MOH'!$B$17+('Machine Hours - MOH'!$B$18*'Production Data'!G7) -> 2240.1965
A8: 7 | B8: 8000 | C8: 3968.5625 | D8: 1767 | E8: 193 | F8: 5 | G8: 10 | H8: =D8/F8 -> 353.4 | I8: ='Machine Hours - MOH'!$B$17+('Machine Hours - MOH'!$B$18*'Production Data'!G8) -> 1623.6681
A9: 8 | B9: 8500 | C9: 3989.125 | D9: 5581 | E9: 194 | F9: 5 | G9: 90 | H9: =D9/F9 -> 1116.2 | I9: ='Machine Hours - MOH'!$B$17+('Machine Hours - MOH'!$B$18*'Production Data'!G9) -> 5417.6886
A10: 9 | B10: 9000 | C10: 4379.8125 | D10: 2803 | E10: 213 | F10: 5 | G10: 33 | H10: =D10/F10 -> 560.6 | I10: ='Machine Hours - MOH'!$B$17+('Machine Hours - MOH'!$B$18*'Production Data'!G10) -> 2714.449
A11: 10 | B11: 9500 | C11: 4379.8125 | D11: 4476 | E11: 213 | F11: 5 | G11: 68 | H11: =D11/F11 -> 895.2 | I11: ='Machine Hours - MOH'!$B$17+('Machine Hours - MOH'!$B$18*'Production Data'!G11) -> 4374.333
A12: 11 | B12: 8900 | C12: 4174.1875 | D12: 1765 | E12: 203 | F12: 5 | G12: 18 | H12: =D12/F12 -> 353 | I12: ='Machine Hours - MOH'!$B$17+('Machine Hours - MOH'!$B$18*'Production Data'!G12) -> 2003.0702
A13: 12 | B13: 8300 | C13: 4030.25 | D13: 5590 | E13: 196 | F13: 5 | G13: 92 | H13: =D13/F13 -> 1118 | I13: ='Machine Hours - MOH'!$B$17+('Machine Hours - MOH'!$B$18*'Production Data'!G13) -> 5512.5391
A14: 13 | B14: 7400 | C14: 3536.75 | D14: 2214 | E14: 172 | F14: 4 | G14: 20 | H14: =D14/F14 -> 553.5 | I14: ='Machine Hours - MOH'!$B$17+('Machine Hours - MOH'!$B$18*'Production Data'!G14) -> 2097.9207
... A429: 428 | B429: 4300 | C429: 2097.375 | D429: 3439 | E429: 102 | F429: 3 | G429: 49 | H429: =D429/F429 -> 1146.3333 | I429: ='Machine Hours - MOH'!$B$17+('Machine Hours - MOH'!$B$18*'Production Data'!G429) -> 3473.2531
A430: 429 | B430: 4300 | C430: 1974 | D430: =5783-494 -> 5289 | E430: 96 | F430: 2 | G430: 94 | H430: =D430/F430 -> 2644.5 | I430: ='Machine Hours - MOH'!$B$17+('Machine Hours - MOH'!$B$18*'Production Data'!G430) -> 5607.3897
A431: 430 | B431: 6300 | C431: 3084.375 | D431: 2903 | E431: 150 | F431: 4 | G431: 38 | H431: =D431/F431 -> 725.75 | I431: ='Machine Hours - MOH'!$B$17+('Machine Hours - MOH'!$B$18*'Production Data'!G431) -> 2951.5753
A432: 431 | B432: 3300 | C432: 1686.125 | D432: 3392 | E432: 82 | F432: 2 | G432: 45 | H432: =D432/F432 -> 1696 | I432: ='Machine Hours - MOH'!$B$17+('Machine Hours - MOH'!$B$18*'Production Data'!G432) -> 3283.5521
A433: 432 | B433: 5100 | C433: 2652.5625 | D433: 2441 | E433: 129 | F433: 3 | G433: 25 | H433: =D433/F433 -> 813.66667 | I433: ='Machine Hours - MOH'!$B$17+('Machine Hours - MOH'!$B$18*'Production Data'!G433) -> 2335.047
A434: 433 | B434: 2600 | C434: 1357.125 | D434: 4268 | E434: 66 | F434: 2 | G434: 60 | H434: =D434/F434 -> 2134 | I434: ='Machine Hours - MOH'!$B$17+('Machine Hours - MOH'!$B$18*'Production Data'!G434) -> 3994.9309
A435: 434 | B435: 9200 | C435: 4462.0625 | D435: 4092 | E435: 217 | F435: 5 | G435: 66 | H435: =D435/F435 -> 818.4 | I435: ='Machine Hours - MOH'!$B$17+('Machine Hours - MOH'!$B$18*'Production Data'!G435) -> 4279.4825
A436: 435 | B436: 6500 | C436: 3063.8125 | D436: 3449 | E436: 149 | F436: 4 | G436: 50 | H436: =D436/F436 -> 862.25 | I436: ='Machine Hours - MOH'!$B$17+('Machine Hours - MOH'!$B$18*'Production Data'!G436) -> 3520.6784
A437: 436 | B437: 2700 | C437: 1459.9375 | D437: 2663 | E437: 71 | F437: 2 | G437: 30 | H437: =D437/F437 -> 1331.5 | I437: ='Machine Hours - MOH'!$B$17+('Machine Hours - MOH'!$B$18*'Production Data'!G437) -> 2572.1733
A438: 437 | B438: 2900 | C438: 1398.25 | D438: 4642 | E438: 68 | F438: 2 | G438: 72 | H438: =D438/F438 -> 2321 | I438: ='Machine Hours - MOH'!$B$17+('Machine Hours - MOH'!$B$18*'Production Data'!G438) -> 4564.034
A439: 438 | B439: 8300 | C439: 4071.375 | D439: 4142 | E439: 198 | F439: 5 | G439: 67 | H439: =D439/F439 -> 828.4 | I439: ='Machine Hours - MOH'!$B$17+('Machine Hours - MOH'!$B$18*'Production Data'!G439) -> 4326.9077
A440: 439 | B440: 5900 | C440: 2755.375 | D440: 1556 | E440: 134 | F440: 3 | G440: 14 | H440: =D440/F440 -> 518.66667 | I440: ='Machine Hours - MOH'!$B$17+('Machine Hours - MOH'!$B$18*'Production Data'!G440) -> 1813.3692
A441: 440 | B441: 6700 | C441: 3207.75 | D441: 4190 | E441: 156 | F441: 4 | G441: 62 | H441: =D441/F441 -> 1047.5 | I441: ='Machine Hours - MOH'!$B$17+('Machine Hours - MOH'!$B$18*'Production Data'!G441) -> 4089.7815
A442: 441 | B442: 9100 | C442: 4235.875 | D442: 3367 | E442: 206 | F442: 5 | G442: 46 | H442: =D442/F442 -> 673.4 | I442: ='Machine Hours - MOH'!$B$17+('Machine Hours - MOH'!$B$18*'Production Data'!G442) -> 3330.9774
... A501: 500 | B501: 4200 | C501: 2097.375 | D501: 2676 | E501: 102 | F501: 3 | G501: 37 | H501: =D501/F501 -> 892 | I501: ='Machine Hours - MOH'!$B$17+('Machine Hours - MOH'!$B$18*'Production Data'!G501) -> 2904.15

Sheet Machine Hours - MOH
A1: SUMMARY OUTPUT
A3: Regression Statistics
A4: Multiple R | B4: 0.95580546
A5: R Square | B5: 0.91356407
A6: Adjusted R Square | B6: 0.9133905
A7: Standard Error | B7: 366.91589
A8: Observations | B8: 500
A10: ANOVA
B11: df | C11: SS | D11: MS | E11: F | F11: Significance F
A12: Regression | B12: 1 | C12: 7.0860968e+08 | D12: 7.0860968e+08 | E12: 5263.4928 | F12: 6.4497193e-267
A13: Residual | B13: 498 | C13: 67044382 | D13: 134627.27
A14: Total | B14: 499 | C14: 775654064
B16: Coefficients | C16: Standard Error | D16: t Stat | E16: P-value | F16: Lower 95% | G16: Upper 95% | H16: Lower 95.0% | I16: Upper 95.0%
A17: Intercept | B17: 1149.4156 | C17: 38.922074 | D17: 29.5312 | E17: 1.6223608e-111 | F17: 1072.9439 | G17: 1225.8873 | H17: 1072.9439 | I17: 1225.8873
A18: Machine Hours | B18: 47.425256 | C18: 0.65369124 | D18: 72.549933 | E18: 6.4497193e-267 | F18: 46.140924 | G18: 48.709589 | H18: 46.140924 | I18: 48.709589

Sheet MOH - Headcount
A1: SUMMARY OUTPUT
A3: Regression Statistics
A4: Multiple R | B4: 0.11239454
A5: R Square | B5: 0.012632533 | C5: not goood
A6: Adjusted R Square | B6: 0.010649867
A7: Standard Error | B7: 1240.1059
A8: Observations | B8: 500
A10: ANOVA
B11: df | C11: SS | D11: MS | E11: F | F11: Significance F
A12: Regression | B12: 1 | C12: 9798475.4 | D12: 9798475.4 | E12: 6.3714894 | F12: 0.011906573
A13: Residual | B13: 498 | C13: 7.6585559e+08 | D13: 1537862.6
A14: Total | B14: 499 | C14: 775654064
B16: Coefficients | C16: Standard Error | D16: t Stat | E16: P-value | F16: Lower 95% | G16: Upper 95% | H16: Lower 95.0% | I16: Upper 95.0%
A17: Intercept | B17: 3298.1081 | C17: 172.34537 | D17: 19.136621 | E17: 1.3497398e-61 | F17: 2959.4944 | G17: 3636.7218 | H17: 2959.4944 | I17: 3636.7218
A18: Headcount | B18: 111.02208 | C18: 43.983407 | D18: 2.5241809 | E18: 0.011906573 | F18: 24.606163 | G18: 197.43799 | H18: 24.606163 | I18: 197.43799
E19: good

Sheet Direct labor hours- direct labo
A1: SUMMARY OUTPUT
A3: Regression Statistics
A4: Multiple R | B4: 1
A5: R Square | B5: 1
A6: Adjusted R Square | B6: 1
A7: Standard Error | B7: 2.6910023e-12
A8: Observations | B8: 500
A10: ANOVA
B11: df | C11: SS | D11: MS | E11: F | F11: Significance F
A12: Regression | B12: 1 | C12: 5.3537824e+08 | D12: 5.3537824e+08 | E12: 7.393202e+31 | F12: 0
A13: Residual | B13: 498 | C13: 3.6062637e-21 | D13: 7.2414934e-24
A14: Total | B14: 499 | C14: 5.3537824e+08
B16: Coefficients | C16: Standard Error | D16: t Stat | E16: P-value | F16: Lower 95% | G16: Upper 95% | H16: Lower 95.0% | I16: Upper 95.0%
A17: Intercept | B17: -6.8212103e-12 | C17: 3.729464e-13 | D17: -18.290056 | E17: 1.5165039e-57 | F17: -7.5539526e-12 | G17: -6.0884679e-12 | H17: -7.5539526e-12 | I17: -6.0884679e-12
A18: Direct Labor Hours | B18: 20.5625 | C18: 2.3914408e-15 | D18: 8.5983731e+15 | E18: 0 | F18: 20.5625 | G18: 20.5625 | H18: 20.5625 | I18: 20.5625

Sheet Direct hours - MOH
A1: SUMMARY OUTPUT
A3: Regression Statistics
A4: Multiple R | B4: 0.10618531
A5: R Square | B5: 0.01127532
A6: Adjusted R Square | B6: 0.0092899288
A7: Standard Error | B7: 50.139207
A8: Observations | B8: 500
A10: ANOVA
B11: df | C11: SS | D11: MS | E11: F | F11: Significance F
A12: Regression | B12: 1 | C12: 14277.026 | D12: 14277.026 | E12: 5.6791434 | F12: 0.017541757
A13: Residual | B13: 498 | C13: 1251942.1 | D13: 2513.94
A14: Total | B14: 499 | C14: 1266219.2
B16: Coefficients | C16: Standard Error | D16: t Stat | E16: P-value | F16: Lower 95% | G16: Upper 95% | H16: Lower 95.0% | I16: Upper 95.0%
A17: Intercept | B17: 131.69109 | C17: 7.0454333 | D17: 18.691695 | E17: 1.8321849e-59 | F17: 117.84865 | G17: 145.53353 | H17: 117.84865 | I17: 145.53353
A18: Manufacturing Overhead | B18: 0.0042902721 | C18: 0.0018002939 | D18: 2.3830953 | E18: 0.017541757 | F18: 0.00075316441 | G18: 0.0078273798 | H18: 0.00075316441 | I18: 0.0078273798
