Workbook

Sheet Microsoft SCF
A1: CASH FLOWS STATEMENTS - USD ($) $ in Millions | B1: 12 Months Ended
B2: Jun. 30, 2022 | C2: Jun. 30, 2021 | D2: Jun. 30, 2020
A3: Operations
A4: Net income | B4: 72738 | C4: 61271 | D4: 44281
A5: Adjustments to reconcile net income to net cash from operations:
A6: Depreciation, amortization, and other | B6: 14460 | C6: 11686 | D6: 12796
A7: Stock-based compensation expense | B7: 7502 | C7: 6118 | D7: 5289
A8: Net recognized gains on investments and derivatives | B8: -409 | C8: -1249 | D8: -219
A9: Deferred income taxes | B9: -5702 | C9: -150 | D9: 11
A10: Changes in operating assets and liabilities:
A11: Accounts receivable | B11: -6834 | C11: -6481 | D11: -2577
A12: Inventories | B12: -1123 | C12: -737 | D12: 168
A13: Other current assets | B13: -709 | C13: -932 | D13: -2330
A14: Other long-term assets | B14: -2805 | C14: -3459 | D14: -1037
A15: Accounts payable | B15: 2943 | C15: 2798 | D15: 3018
A16: Unearned revenue | B16: 5109 | C16: 4633 | D16: 2212
A17: Income taxes | B17: 696 | C17: -2309 | D17: -3631
A18: Other current liabilities | B18: 2344 | C18: 4149 | D18: 1346
A19: Other long-term liabilities | B19: 825 | C19: 1402 | D19: 1348
A20: Net cash from operations | B20: 89035 | C20: 76740 | D20: 60675
A21: Financing
A22: Cash premium on debt exchange | B22: 0 | C22: -1754 | D22: -3417
A23: Repayments of debt | B23: -9023 | C23: -3750 | D23: -5518
A24: Common stock issued | B24: 1841 | C24: 1693 | D24: 1343
A25: Common stock repurchased | B25: -32696 | C25: -27385 | D25: -22968
A26: Common stock cash dividends paid | B26: -18135 | C26: -16521 | D26: -15137
A27: Other, net | B27: -863 | C27: -769 | D27: -334
A28: Net cash used in financing | B28: -58876 | C28: -48486 | D28: -46031
A29: Investing
A30: Additions to property and equipment | B30: -23886 | C30: -20622 | D30: -15441
A31: Acquisition of companies, net of cash acquired, and purchases of intangible and other assets | B31: -22038 | C31: -8909 | D31: -2521
A32: Purchases of investments | B32: -26456 | C32: -62924 | D32: -77190
A33: Maturities of investments | B33: 16451 | C33: 51792 | D33: 66449
A34: Sales of investments | B34: 28443 | C34: 14008 | D34: 17721
A35: Other, net | B35: -2825 | C35: -922 | D35: -1241
A36: Net cash used in investing | B36: -30311 | C36: -27577 | D36: -12223
A37: Effect of foreign exchange rates on cash and cash equivalents | B37: -141 | C37: -29 | D37: -201
A38: Net change in cash and cash equivalents | B38: -293 | C38: 648 | D38: 2220
A39: Cash and cash equivalents, beginning of period | B39: 14224 | C39: 13576 | D39: 11356
A40: Cash and cash equivalents, end of period | B40: 13931 | C40: 14224 | D40: 13576

Sheet Zoom SCF
A1: CONSOLIDATED STATEMENTS OF CASH FLOWS - USD ($) $ in Thousands | B1: 12 Months Ended
B2: Jan. 31, 2023 | C2: Jan. 31, 2022 | D2: Jan. 31, 2021
A3: Cash flows from operating activities:
A4: Net income | B4: 103711 | C4: 1375639 | D4: 672316
A5: Adjustments to reconcile net income to net cash provided by operating activities:
A6: Stock-based compensation expense | B6: 1285752 | C6: 477287 | D6: 275818
A7: Deferred income taxes | B7: -160961 | C7: -327957 | D7: 0
A8: Amortization of deferred contract acquisition costs | B8: 259368 | C8: 177283 | D8: 104306
A9: Losses (gains) on strategic investments, net | B9: 37571
A10: Losses (gains) on strategic investments, net | C10: -43761 | D10: -2538
A11: Depreciation and amortization | B11: 82321 | C11: 48188 | D11: 28857
A12: Provision for accounts receivable allowances | B12: 50285 | C12: 36747 | D12: 32007
A13: Non-cash operating lease cost | B13: 28933 | C13: 18387 | D13: 10887
A14: Charitable donation of common stock | B14: 0 | C14: 0 | D14: 23312
A15: Amortization of discount/premium on marketable securities | B15: 1206 | C15: 25316 | D15: 5433
A16: Other | B16: 14913 | C16: 4591 | D16: 927
A17: Changes in operating assets and liabilities:
A18: Accounts receivable | B18: -231845 | C18: -159183 | D18: -219039
A19: Prepaid expenses and other assets | B19: -18066 | C19: -155934 | D19: -68521
A20: Deferred contract acquisition costs | B20: -298629 | C20: -247371 | D20: -307068
A21: Accounts payable | B21: 11611 | C21: -2218 | D21: 3481
A22: Accrued expenses and other liabilities | B22: 20530 | C22: 101369 | D22: 251654
A23: Deferred revenue | B23: 127401 | C23: 293887 | D23: 665724
A24: Operating lease liabilities, net | B24: -23839 | C24: -17004 | D24: -6379
A25: Net cash provided by operating activities | B25: 1290262 | C25: 1605266 | D25: 1471177
A26: Cash flows from investing activities:
A27: Purchases of marketable securities | B27: -2849121 | C27: -4434749 | D27: -2056470
A28: Maturities of marketable securities | B28: 2835196 | C28: 1733043 | D28: 580795
A29: Sales of marketable securities | B29: 0 | C29: 296867 | D29: 36897
A30: Purchases of property and equipment | B30: -103826 | C30: -132590 | D30: -79972
A31: Purchases of strategic investments | B31: -69050 | C31: -305149 | D31: -13000
A32: Cash paid for acquisition, net of cash acquired | B32: -120553 | C32: -3501 | D32: -26486
A33: Purchases of intangible assets | B33: -11268 | C33: -13018 | D33: -5843
A34: Other | B34: 300 | C34: 0 | D34: 1659
A35: Net cash used in investing activities | B35: -318322 | C35: -2859097 | D35: -1562420
A36: Cash flows from financing activities:
A37: Cash paid for repurchases of common stock | B37: -1000003 | C37: 0 | D37: 0
A38: Proceeds from issuance of common stock for employee stock purchase plan | B38: 53710 | C38: 59331 | D38: 38433
A39: Proceeds from exercise of stock options | B39: 8577 | C39: 14404 | D39: 28550
A40: Proceeds from employee equity transactions to be remitted (remitted) to employees and tax authorities, net | B40: 774 | C40: -40004 | D40: 4088
...

Sheet Netflix SCF
A1: CONSOLIDATED STATEMENTS OF CASH FLOWS - USD ($) $ in Thousands | B1: 12 Months Ended
B2: Dec. 31, 2022 | C2: Dec. 31, 2021 | D2: Dec. 31, 2020
A3: Cash flows from operating activities:
A4: Net income | B4: 4491924 | C4: 5116228 | D4: 2761395
A5: Adjustments to reconcile net income to net cash provided by operating activities:
A6: Additions to content assets | B6: -16839038 | C6: -17702202 | D6: -11779284
A7: Change in content liabilities | B7: 179310 | C7: 232898 | D7: -757433
A8: Amortization of content assets | B8: 14026132 | C8: 12230367 | D8: 10806912
A9: Depreciation and amortization of property, equipment and intangibles | B9: 336682 | C9: 208412 | D9: 115710
A10: Stock-based compensation expense | B10: 575452 | C10: 403220 | D10: 415180
A11: Foreign currency remeasurement loss (gain) on debt | B11: -353111 | C11: -430661 | D11: 533278
A12: Other non-cash items | B12: 533543 | C12: 376777 | D12: 293126
A13: Deferred income taxes | B13: -166550 | C13: 199548 | D13: 70066
A14: Changes in operating assets and liabilities:
A15: Other current assets | B15: -353834 | C15: -369681 | D15: -187623
A16: Accounts payable | B16: -158543 | C16: 145115 | D16: -41605
A17: Accrued expenses and other liabilities | B17: -55513 | C17: 180338 | D17: 198183
A18: Deferred revenue | B18: 27356 | C18: 91350 | D18: 193247
A19: Other non-current assets and liabilities | B19: -217553 | C19: -289099 | D19: -194075
A20: Net cash provided by operating activities | B20: 2026257 | C20: 392610 | D20: 2427077
A21: Cash flows from investing activities:
A22: Purchases of property and equipment | B22: -407729 | C22: -524585 | D22: -497923
A23: Change in other assets | B23: 0 | C23: -26919 | D23: -7431
A24: Acquisitions | B24: -757387 | C24: -788349 | D24: 0
A25: Purchases of short-term investments | B25: -911276 | C25: 0 | D25: 0
A26: Net cash used in investing activities | B26: -2076392 | C26: -1339853 | D26: -505354
A27: Cash flows from financing activities:
A28: Proceeds from issuance of debt | B28: 0 | C28: 0 | D28: 1009464
A29: Debt issuance costs | B29: 0 | C29: 0 | D29: -7559
A30: Repayments of debt | B30: -700000 | C30: -500000 | D30: 0
A31: Proceeds from issuance of common stock | B31: 35746 | C31: 174414 | D31: 235406
A32: Repurchases of common stock | B32: 0 | C32: -600022 | D32: 0
A33: Taxes paid related to net share settlement of equity awards | B33: 0 | C33: -224168 | D33: 0
A34: Net cash provided by (used in) financing activities | B34: -664254 | C34: -1149776 | D34: 1237311
A35: Effect of exchange rate changes on cash, cash equivalents and restricted cash | B35: -170140 | C35: -86740 | D35: 36050
A36: Net increase (decrease) in cash, cash equivalents and restricted cash | B36: -884529 | C36: -2183759 | D36: 3195084
A37: Cash, cash equivalents and restricted cash, beginning of year | B37: 6055111 | C37: 8238870 | D37: 5043786
A38: Cash, cash equivalents and restricted cash, end of year | B38: 5170582 | C38: 6055111 | D38: 8238870
A39: Supplemental disclosure:
A40: Income taxes paid | B40: 811720 | C40: 509265 | D40: 291582
...

Sheet Sheet1

Sheet Google SCF
A1: CONSOLIDATED STATEMENTS OF CASH FLOWS - USD ($) $ in Millions | B1: 12 Months Ended
B2: Dec. 31, 2022 | C2: Dec. 31, 2021 | D2: Dec. 31, 2020
A3: Operating activities
A4: Net income | B4: 59972 | C4: 76033 | D4: 40269
A5: Adjustments:
A6: Depreciation and impairment of property and equipment | B6: 15287 | C6: 11555 | D6: 12905
A7: Amortization and impairment of intangible assets | B7: 641 | C7: 886 | D7: 792
A8: Stock-based compensation expense | B8: 19362 | C8: 15376 | D8: 12991
A9: Deferred income taxes | B9: -8081 | C9: 1808 | D9: 1390
A10: (Gain) loss on debt and equity securities, net | B10: 5519 | C10: -12270 | D10: -6317
A11: Other | B11: 1030 | C11: -213 | D11: 1267
A12: Changes in assets and liabilities, net of effects of acquisitions:
A13: Accounts receivable, net | B13: -2317 | C13: -9095 | D13: -6524
A14: Income taxes, net | B14: 584 | C14: -625 | D14: 1209
A15: Other assets | B15: -5046 | C15: -1846 | D15: -1330
A16: Accounts payable | B16: 707 | C16: 283 | D16: 694
A17: Accrued expenses and other liabilities | B17: 3915 | C17: 7304 | D17: 5504
A18: Accrued revenue share | B18: -445 | C18: 1682 | D18: 1639
A19: Deferred revenue | B19: 367 | C19: 774 | D19: 635
A20: Net cash provided by operating activities | B20: 91495 | C20: 91652 | D20: 65124
A21: Investing activities
A22: Purchases of property and equipment | B22: -31485 | C22: -24640 | D22: -22281
A23: Purchases of marketable securities | B23: -78874 | C23: -135196 | D23: -136576
A24: Maturities and sales of marketable securities | B24: 97822 | C24: 128294 | D24: 132906
A25: Purchases of non-marketable securities | B25: -2531 | C25: -2838 | D25: -7175
A26: Maturities and sales of non-marketable securities | B26: 150 | C26: 934 | D26: 1023
A27: Acquisitions, net of cash acquired, and purchases of intangible assets | B27: -6969 | C27: -2618 | D27: -738
A28: Other investing activities | B28: 1589 | C28: 541 | D28: 68
A29: Net cash used in investing activities | B29: -20298 | C29: -35523 | D29: -32773
A30: Financing activities
A31: Net payments related to stock-based award activities | B31: -9300 | C31: -10162 | D31: -5720
A32: Repurchases of stock | B32: -59296 | C32: -50274 | D32: -31149
A33: Proceeds from issuance of debt, net of costs | B33: 52872 | C33: 20199 | D33: 11761
A34: Repayments of debt | B34: -54068 | C34: -21435 | D34: -2100
A35: Proceeds from sale of interest in consolidated entities, net | B35: 35 | C35: 310 | D35: 2800
A36: Net cash used in financing activities | B36: -69757 | C36: -61362 | D36: -24408
A37: Effect of exchange rate changes on cash and cash equivalents | B37: -506 | C37: -287 | D37: 24
A38: Net increase (decrease) in cash and cash equivalents | B38: 934 | C38: -5520 | D38: 7967
A39: Cash and cash equivalents at beginning of period | B39: 20945 | C39: 26465 | D39: 18498
A40: Cash and cash equivalents at end of period | B40: 21879 | C40: 20945 | D40: 26465
...

Sheet Tesla SCF
A1: Consolidated Statements of Cash Flows (Unaudited) - USD ($) $ in Millions | B1: 12 Months Ended
B2: Dec. 31, 2022 | C2: Dec. 31, 2021 | D2: Dec. 31, 2020
A3: Cash Flows from Operating Activities
A4: Net income | B4: 12587 | C4: 5644 | D4: 862
A5: Adjustments to reconcile net income to net cash provided by operating activities:
A6: Depreciation, amortization and impairment | B6: 3747 | C6: 2911 | D6: 2322
A7: Stock-based compensation | B7: 1560 | C7: 2121 | D7: 1734
A8: Inventory and purchase commitments write-downs | B8: 177 | C8: 140 | D8: 202
A9: Foreign currency transaction net unrealized loss (gain) | B9: 81 | C9: -55 | D9: 114
A10: Non-cash interest and other operating activities | B10: 340 | C10: 245 | D10: 525
A11: Digital assets loss (gain), net | B11: 140 | C11: -27 | D11: 0
A12: Changes in operating assets and liabilities:
A13: Accounts receivable | B13: -1124 | C13: -130 | D13: -652
A14: Inventory | B14: -6465 | C14: -1709 | D14: -422
A15: Operating lease vehicles | B15: -1570 | C15: -2114 | D15: -1072
A16: Prepaid expenses and other current assets | B16: -1417 | C16: -271 | D16: -251
A17: Other non-current assets | B17: -2551 | C17: -1291 | D17: -344
A18: Accounts payable and accrued liabilities | B18: 6029 | C18: 4578 | D18: 2102
A19: Deferred revenue | B19: 1131 | C19: 793 | D19: 321
A20: Customer deposits | B20: 155 | C20: 186 | D20: 7
A21: Other long-term liabilities | B21: 1904 | C21: 476 | D21: 495
A22: Net cash provided by operating activities | B22: 14724 | C22: 11497 | D22: 5943
A23: Cash Flows from Investing Activities
A24: Purchases of property and equipment excluding finance leases, net of sales | B24: -7158 | C24: -6482 | D24: -3157
A25: Purchases of solar energy systems, net of sales | B25: -5 | C25: -32 | D25: -75
A26: Purchases of digital assets | B26: 0 | C26: -1500 | D26: 0
A27: Proceeds from sales of digital assets | B27: 936 | C27: 272 | D27: 0
A28: Purchase of intangible assets | B28: -9 | C28: 0 | D28: -10
A29: Purchases of investments | B29: -5835 | C29: -132 | D29: 0
A30: Proceeds from maturities of investments | B30: 22 | C30: 0 | D30: 0
A31: Receipt of government grants | B31: 76 | C31: 6 | D31: 123
A32: Business combinations, net of cash acquired | B32: 0 | C32: 0 | D32: -13
A33: Net cash used in investing activities | B33: -11973 | C33: -7868 | D33: -3132
A34: Cash Flows from Financing Activities
A35: Proceeds from issuances of common stock in public offerings, net of issuance costs | B35: 0 | C35: 0 | D35: 12269
A36: Proceeds from issuances of debt | B36: 0 | C36: 8883 | D36: 9713
A37: Repayments of convertible and other debt | B37: -3364 | C37: -14167 | D37: -11623
A38: Collateralized lease repayments | B38: 0 | C38: -9 | D38: -240
A39: Proceeds from exercises of stock options and other stock issuances | B39: 541 | C39: 707 | D39: 417
A40: Principal payments on finance leases | B40: -502 | C40: -439 | D40: -338
...

Sheet Analysis
A1: In Millions | B1: Microsoft - 12 Months Ended
B2: ='Microsoft SCF'!B2 -> Jun. 30, 2022 | C2: ='Microsoft SCF'!C2 -> Jun. 30, 2021 | D2: ='Microsoft SCF'!D2 -> Jun. 30, 2020 | F2: Classification
A3: Operating | B3: ='Microsoft SCF'!B20 -> 89035 | C3: ='Microsoft SCF'!C20 -> 76740 | D3: ='Microsoft SCF'!D20 -> 60675 | F3: Decline
A4: Investing | B4: ='Microsoft SCF'!B36 -> -30311 | C4: ='Microsoft SCF'!C36 -> -27577 | D4: ='Microsoft SCF'!D36 -> -12223 | F4: Cash flows have been fairly steady for the past few years with Operating activities generating the most cash. Investing and Financing cash outflows are increasing which, according to the chart, signal early stages of decline.
A5: Financing | B5: ='Microsoft SCF'!B28 -> -58876 | C5: ='Microsoft SCF'!C28 -> -48486 | D5: ='Microsoft SCF'!D28 -> -46031
A6: Exchange Rate Effects | B6: ='Microsoft SCF'!B37 -> -141 | C6: ='Microsoft SCF'!C37 -> -29 | D6: ='Microsoft SCF'!D37 -> -201
A7: Δ in Cash | B7: =SUM(B3:B6) -> -293 | C7: =SUM(C3:C6) -> 648 | D7: =SUM(D3:D6) -> 2220
A10: In Thousands | B10: Zoom - 12 Months Ended
B11: ='Zoom SCF'!B2 -> Jan. 31, 2023 | C11: ='Zoom SCF'!C2 -> Jan. 31, 2022 | D11: ='Zoom SCF'!D2 -> Jan. 31, 2021 | F11: Classification
A12: Operating | B12: ='Zoom SCF'!B25 -> 1290262 | C12: ='Zoom SCF'!C25 -> 1605266 | D12: ='Zoom SCF'!D25 -> 1471177 | F12: Maturity
A13: Investing | B13: ='Zoom SCF'!B35 -> -318322 | C13: ='Zoom SCF'!C35 -> -2859097 | D13: ='Zoom SCF'!D35 -> -1562420 | F13: This company is most likely in the marturity stage because operating cash flows are steady, investing cash flows are decreasing and financing cash flows are changing from outflows to inflows
A14: Financing | B14: ='Zoom SCF'!B43 -> -936942 | C14: ='Zoom SCF'!C43 -> 34068 | D14: ='Zoom SCF'!D43 -> 2050277
A15: Exchange Rate Effects | B15: ='Zoom SCF'!B44 -> -8108 | C15: ='Zoom SCF'!C44 -> 0 | D15: ='Zoom SCF'!D44 -> 0
A16: Δ in Cash | B16: =SUM(B12:B15) -> 26890 | C16: =SUM(C12:C15) -> -1219763 | D16: =SUM(D12:D15) -> 1959034
A19: In Thousands | B19: Netflix - 12 Months Ended
B20: ='Netflix SCF'!B2 -> Dec. 31, 2022 | C20: ='Netflix SCF'!C2 -> Dec. 31, 2021 | D20: ='Netflix SCF'!D2 -> Dec. 31, 2020 | F20: Classification
A21: Operating | B21: ='Netflix SCF'!B20 -> 2026257 | C21: ='Netflix SCF'!C20 -> 392610 | D21: ='Netflix SCF'!D20 -> 2427077 | F21: Maturity
A22: Investing | B22: ='Netflix SCF'!B26 -> -2076392 | C22: ='Netflix SCF'!C26 -> -1339853 | D22: ='Netflix SCF'!D26 -> -505354 | F22: Operating cash flows are inflows but they vary a lot from year to year. Investing outflows are decreasing, financing inflows are changing from outflows to inflows.
A23: Financing | B23: ='Netflix SCF'!B34 -> -664254 | C23: ='Netflix SCF'!C34 -> -1149776 | D23: ='Netflix SCF'!D34 -> 1237311
A24: Exchange Rate Effects | B24: ='Netflix SCF'!B35 -> -170140 | C24: ='Netflix SCF'!C35 -> -86740 | D24: ='Netflix SCF'!D35 -> 36050
A25: Δ in Cash | B25: =SUM(B21:B24) -> -884529 | C25: =SUM(C21:C24) -> -2183759 | D25: =SUM(D21:D24) -> 3195084
A28: In Millions | B28: Google - 12 Months Ended
B29: ='Google SCF'!B2 -> Dec. 31, 2022 | C29: ='Google SCF'!C2 -> Dec. 31, 2021 | D29: ='Google SCF'!D2 -> Dec. 31, 2020 | F29: Classification
A30: Operating | B30: ='Google SCF'!B20 -> 91495 | C30: ='Google SCF'!C20 -> 91652 | D30: ='Google SCF'!D20 -> 65124 | F30: Decline
A31: Investing | B31: ='Google SCF'!B29 -> -20298 | C31: ='Google SCF'!C29 -> -35523 | D31: ='Google SCF'!D29 -> -32773 | F31: Operating cash inflows climbed and are steady. Investing cash flows are relatively steady as well. Financing cash outflows are increasing which puts this company in the very early stages of decline.
A32: Financing | B32: ='Google SCF'!B36 -> -69757 | C32: ='Google SCF'!C36 -> -61362 | D32: ='Google SCF'!D36 -> -24408
A33: Exchange Rate Effects | B33: ='Google SCF'!B37 -> -506 | C33: ='Google SCF'!C37 -> -287 | D33: ='Google SCF'!D37 -> 24
A34: Δ in Cash | B34: =SUM(B30:B33) -> 934 | C34: =SUM(C30:C33) -> -5520 | D34: =SUM(D30:D33) -> 7967
A37: In Millions | B37: Tesla - 12 Months Ended
B38: ='Tesla SCF'!B2 -> Dec. 31, 2022 | C38: ='Tesla SCF'!C2 -> Dec. 31, 2021 | D38: ='Tesla SCF'!D2 -> Dec. 31, 2020 | F38: Classification
A39: Operating | B39: ='Tesla SCF'!B22 -> 14724 | C39: ='Tesla SCF'!C22 -> 11497 | D39: ='Tesla SCF'!D22 -> 5943 | F39: Maturity
A40: Investing | B40: ='Tesla SCF'!B33 -> -11973 | C40: ='Tesla SCF'!C33 -> -7868 | D40: ='Tesla SCF'!D33 -> -3132 | F40: Operating cash inflows have nearly doubled in the observed years. The company is using more cash to invest, and financing cash flows have changed from a net inflow to a net outflow. The company is approaching maturity.
A41: Financing | B41: ='Tesla SCF'!B45 -> -3527 | C41: ='Tesla SCF'!C45 -> -5203 | D41: ='Tesla SCF'!D45 -> 9973
A42: Exchange Rate Effects | B42: ='Tesla SCF'!B46 -> -444 | C42: ='Tesla SCF'!C46 -> -183 | D42: ='Tesla SCF'!D46 -> 334
A43: Δ in Cash | B43: =SUM(B39:B42) -> -1220 | C43: =SUM(C39:C42) -> -1757 | D43: =SUM(D39:D42) -> 13118

Sheet FCF
A1: In Millions | B1: Microsoft - 12 Months Ended
B2: ='Microsoft SCF'!B2 -> Jun. 30, 2022 | C2: ='Microsoft SCF'!C2 -> Jun. 30, 2021 | D2: ='Microsoft SCF'!D2 -> Jun. 30, 2020
A3: Operating Cash Flow | B3: ='Microsoft SCF'!B20 -> 89035 | C3: ='Microsoft SCF'!C20 -> 76740 | D3: ='Microsoft SCF'!D20 -> 60675
A4: LESS: CapEx | B4: ='Microsoft SCF'!B30 -> -23886 | C4: ='Microsoft SCF'!C30 -> -20622 | D4: ='Microsoft SCF'!D30 -> -15441
A5: Free Cash Flow | B5: =SUM(B3:B4) -> 65149 | C5: =SUM(C3:C4) -> 56118 | D5: =SUM(D3:D4) -> 45234
A8: In Thousands | B8: Zoom - 12 Months Ended
B9: ='Zoom SCF'!B2 -> Jan. 31, 2023 | C9: ='Zoom SCF'!C2 -> Jan. 31, 2022 | D9: ='Zoom SCF'!D2 -> Jan. 31, 2021
A10: Operating Cash Flow | B10: ='Zoom SCF'!B25 -> 1290262 | C10: ='Zoom SCF'!C25 -> 1605266 | D10: ='Zoom SCF'!D25 -> 1471177
A11: LESS: CapEx | B11: ='Zoom SCF'!B30 -> -103826 | C11: ='Zoom SCF'!C30 -> -132590 | D11: ='Zoom SCF'!D30 -> -79972
A12: Free Cash Flow | B12: =SUM(B10:B11) -> 1186436 | C12: =SUM(C10:C11) -> 1472676 | D12: =SUM(D10:D11) -> 1391205
A15: In Thousands | B15: Netflix - 12 Months Ended
B16: ='Netflix SCF'!B2 -> Dec. 31, 2022 | C16: ='Netflix SCF'!C2 -> Dec. 31, 2021 | D16: ='Netflix SCF'!D2 -> Dec. 31, 2020
A17: Operating Cash Flow | B17: ='Netflix SCF'!B20 -> 2026257 | C17: ='Netflix SCF'!C20 -> 392610 | D17: ='Netflix SCF'!D20 -> 2427077
A18: LESS: CapEx | B18: ='Netflix SCF'!B22 -> -407729 | C18: ='Netflix SCF'!C22 -> -524585 | D18: ='Netflix SCF'!D22 -> -497923
A19: Free Cash Flow | B19: =SUM(B17:B18) -> 1618528 | C19: =SUM(C17:C18) -> -131975 | D19: =SUM(D17:D18) -> 1929154
A22: In Millions | B22: Google - 12 Months Ended
B23: ='Google SCF'!B2 -> Dec. 31, 2022 | C23: ='Google SCF'!C2 -> Dec. 31, 2021 | D23: ='Google SCF'!D2 -> Dec. 31, 2020
A24: Operating Cash Flow | B24: ='Google SCF'!B20 -> 91495 | C24: ='Google SCF'!C20 -> 91652 | D24: ='Google SCF'!D20 -> 65124
A25: LESS: CapEx | B25: ='Google SCF'!B22 -> -31485 | C25: ='Google SCF'!C22 -> -24640 | D25: ='Google SCF'!D22 -> -22281
A26: Free Cash Flow | B26: =SUM(B24:B25) -> 60010 | C26: =SUM(C24:C25) -> 67012 | D26: =SUM(D24:D25) -> 42843
A29: In Millions | B29: Tesla - 12 Months Ended
B30: ='Tesla SCF'!B2 -> Dec. 31, 2022 | C30: ='Tesla SCF'!C2 -> Dec. 31, 2021 | D30: ='Tesla SCF'!D2 -> Dec. 31, 2020
A31: Operating Cash Flow | B31: =SUM('Tesla SCF'!B22,'Tesla SCF'!B26,'Tesla SCF'!B27) -> 15660 | C31: =SUM('Tesla SCF'!C22,'Tesla SCF'!C26,'Tesla SCF'!C27) -> 10269 | D31: =SUM('Tesla SCF'!D22,'Tesla SCF'!D26,'Tesla SCF'!D27) -> 5943
A32: LESS: CapEx | B32: ='Tesla SCF'!B24 -> -7158 | C32: ='Tesla SCF'!C24 -> -6482 | D32: ='Tesla SCF'!D24 -> -3157
A33: Free Cash Flow | B33: =SUM(B31:B32) -> 8502 | C33: =SUM(C31:C32) -> 3787 | D33: =SUM(D31:D32) -> 2786
