Workbook

Sheet Challenge8_Employee_Data_Luis_G
A1: EmployeeName | B1: BirthDate | C1: SSN | D1: HireDate
A2: Anderson, Maeve | B2: 32505 | C2: 203-55-3505 | D2: 44470
A3: Prommer, Yozune | B3: 18936 | C3: 165-38-1199 | D3: 43894
A4: Siamo, Dagoberto | B4: 26179 | C4: 769-84-2052 | D4: 42521
A5: Adara, Bigler | B5: 25714 | C5: 338-89-6883 | D5: 41437
A6: Ufberg, Riccardo | B6: 23926 | C6: 812-54-9827 | D6: 41859
A7: Pettis, Kim | B7: 22785 | C7: 901-52-5142 | D7: 40232
A8: Saidman, Urban | B8: 25791 | C8: 260-90-7047 | D8: 43419
A9: Hydock, Shanna | B9: 34438 | C9: 399-79-5482 | D9: 43242
A10: Ewertsen, João | B10: 34689 | C10: 824-57-5237 | D10: 41375
A11: Walkin, Steffanie | B11: 21701 | C11: 308-76-9640 | D11: 44503
A12: Sarabia, Brynn | B12: 23396 | C12: 832-30-9052 | D12: 42141
A13: Ballen, Sabah | B13: 22069 | C13: 453-66-4507 | D13: 41640
... A4097: Bussey, Miaulu | B4097: 36451 | C4097: 484-49-2646 | D4097: 43121

Sheet Sheet1
E2: Name | F2: Age | G2: Hire Date | H2: Years with the company | J2: Name | K2: Age | L2: Hire Date | M2: Years with the company
E3: =Challenge8_Employee_Data_Luis_G!A7 -> Pettis, Kim | F3: =YEAR(NOW())-YEAR(Challenge8_Employee_Data_Luis_G!B7) -> 61 | G3: {=_xlfn.XLOOKUP(E3,Challenge8_Employee_Data_Luis_G!A7:$A$4097,Challenge8_Employee_Data_Luis_G!D7:$D$4097)} -> 40232 | H3: =YEAR(NOW())-YEAR(G3) -> 13 | J3: Ufberg, Riccardo | K3: 58 | L3: 41859 | M3: 9
E4: =Challenge8_Employee_Data_Luis_G!A47 -> Diez, Pemberton | F4: =YEAR(NOW())-YEAR(Challenge8_Employee_Data_Luis_G!B47) -> 43 | G4: {=_xlfn.XLOOKUP(E4,Challenge8_Employee_Data_Luis_G!A47:$A$4097,Challenge8_Employee_Data_Luis_G!D47:$D$4097)} -> 40227 | H4: =YEAR(NOW())-YEAR(G4) -> 13 | J4: Ballen, Sabah | K4: 63 | L4: 41640 | M4: 9
E5: =Challenge8_Employee_Data_Luis_G!A54 -> Tba, Silvia | F5: =YEAR(NOW())-YEAR(Challenge8_Employee_Data_Luis_G!B54) -> 46 | G5: {=_xlfn.XLOOKUP(E5,Challenge8_Employee_Data_Luis_G!A54:$A$4097,Challenge8_Employee_Data_Luis_G!D54:$D$4097)} -> 40333 | H5: =YEAR(NOW())-YEAR(G5) -> 13 | J5: Servantes, Frankum | K5: 56 | L5: 41922 | M5: 9
E6: =Challenge8_Employee_Data_Luis_G!A66 -> Dunn, Mirna | F6: =YEAR(NOW())-YEAR(Challenge8_Employee_Data_Luis_G!B66) -> 61 | G6: {=_xlfn.XLOOKUP(E6,Challenge8_Employee_Data_Luis_G!A66:$A$4097,Challenge8_Employee_Data_Luis_G!D66:$D$4097)} -> 40206 | H6: =YEAR(NOW())-YEAR(G6) -> 13 | J6: Groshek, Rest | K6: 64 | L6: 41640 | M6: 9
E7: =Challenge8_Employee_Data_Luis_G!A69 -> Kehnscherper, Verena | F7: =YEAR(NOW())-YEAR(Challenge8_Employee_Data_Luis_G!B69) -> 56 | G7: {=_xlfn.XLOOKUP(E7,Challenge8_Employee_Data_Luis_G!A69:$A$4097,Challenge8_Employee_Data_Luis_G!D69:$D$4097)} -> 40442 | H7: =YEAR(NOW())-YEAR(G7) -> 13 | J7: Petro, Steven | K7: 48 | L7: 41708 | M7: 9
E8: =Challenge8_Employee_Data_Luis_G!A95 -> Suojansalo, Hocking | F8: =YEAR(NOW())-YEAR(Challenge8_Employee_Data_Luis_G!B95) -> 55 | G8: {=_xlfn.XLOOKUP(E8,Challenge8_Employee_Data_Luis_G!A95:$A$4097,Challenge8_Employee_Data_Luis_G!D95:$D$4097)} -> 40539 | H8: =YEAR(NOW())-YEAR(G8) -> 13 | J8: Carberry, Oswaldo | K8: 41 | L8: 41698 | M8: 9
E9: =Challenge8_Employee_Data_Luis_G!A102 -> Korth, Serena | F9: =YEAR(NOW())-YEAR(Challenge8_Employee_Data_Luis_G!B102) -> 62 | G9: {=_xlfn.XLOOKUP(E9,Challenge8_Employee_Data_Luis_G!A102:$A$4097,Challenge8_Employee_Data_Luis_G!D102:$D$4097)} -> 40442 | H9: =YEAR(NOW())-YEAR(G9) -> 13 | J9: Hively, Yanya | K9: 24 | L9: 41814 | M9: 9
E10: =Challenge8_Employee_Data_Luis_G!A122 -> Fouladgar, Maleki | F10: =YEAR(NOW())-YEAR(Challenge8_Employee_Data_Luis_G!B122) -> 25 | G10: {=_xlfn.XLOOKUP(E10,Challenge8_Employee_Data_Luis_G!A122:$A$4097,Challenge8_Employee_Data_Luis_G!D122:$D$4097)} -> 40415 | H10: =YEAR(NOW())-YEAR(G10) -> 13 | J10: Spain, Dalet | K10: 64 | L10: 41790 | M10: 9
E11: =Challenge8_Employee_Data_Luis_G!A128 -> Turcotte, Surrie | F11: =YEAR(NOW())-YEAR(Challenge8_Employee_Data_Luis_G!B128) -> 49 | G11: {=_xlfn.XLOOKUP(E11,Challenge8_Employee_Data_Luis_G!A128:$A$4097,Challenge8_Employee_Data_Luis_G!D128:$D$4097)} -> 40423 | H11: =YEAR(NOW())-YEAR(G11) -> 13 | J11: Cespedes, Jacquelyn | K11: 34 | L11: 41886 | M11: 9
E12: =Challenge8_Employee_Data_Luis_G!A161 -> Ray, Rumina | F12: =YEAR(NOW())-YEAR(Challenge8_Employee_Data_Luis_G!B161) -> 66 | G12: {=_xlfn.XLOOKUP(E12,Challenge8_Employee_Data_Luis_G!A161:$A$4097,Challenge8_Employee_Data_Luis_G!D161:$D$4097)} -> 40511 | H12: =YEAR(NOW())-YEAR(G12) -> 13 | J12: Curri, Jessy | K12: 47 | L12: 41957 | M12: 9
E13: =Challenge8_Employee_Data_Luis_G!A193 -> Weege, Josie | F13: =YEAR(NOW())-YEAR(Challenge8_Employee_Data_Luis_G!B193) -> 53 | G13: {=_xlfn.XLOOKUP(E13,Challenge8_Employee_Data_Luis_G!A193:$A$4097,Challenge8_Employee_Data_Luis_G!D193:$D$4097)} -> 40313 | H13: =YEAR(NOW())-YEAR(G13) -> 13 | J13: Casasola, Seb | K13: 42 | L13: 41848 | M13: 9
E14: =Challenge8_Employee_Data_Luis_G!A229 -> Belzberg, Stonnie | F14: =YEAR(NOW())-YEAR(Challenge8_Employee_Data_Luis_G!B229) -> 26 | G14: {=_xlfn.XLOOKUP(E14,Challenge8_Employee_Data_Luis_G!A229:$A$4097,Challenge8_Employee_Data_Luis_G!D229:$D$4097)} -> 40392 | H14: =YEAR(NOW())-YEAR(G14) -> 13 | J14: Horgan, Meagan | K14: 52 | L14: 41854 | M14: 9
E15: =Challenge8_Employee_Data_Luis_G!A234 -> Tremblay, Jacinta | F15: =YEAR(NOW())-YEAR(Challenge8_Employee_Data_Luis_G!B234) -> 38 | G15: {=_xlfn.XLOOKUP(E15,Challenge8_Employee_Data_Luis_G!A234:$A$4097,Challenge8_Employee_Data_Luis_G!D234:$D$4097)} -> 40493 | H15: =YEAR(NOW())-YEAR(G15) -> 13 | J15: Aistara, Vainius | K15: 40 | L15: 41788 | M15: 9
E16: =Challenge8_Employee_Data_Luis_G!A236 -> Zahedi, Kanika | F16: =YEAR(NOW())-YEAR(Challenge8_Employee_Data_Luis_G!B236) -> 50 | G16: {=_xlfn.XLOOKUP(E16,Challenge8_Employee_Data_Luis_G!A236:$A$4097,Challenge8_Employee_Data_Luis_G!D236:$D$4097)} -> 40400 | H16: =YEAR(NOW())-YEAR(G16) -> 13 | J16: Azpeitia, Ullises | K16: 44 | L16: 41959 | M16: 9
E17: =Challenge8_Employee_Data_Luis_G!A244 -> Sarette, Alya6B | F17: =YEAR(NOW())-YEAR(Challenge8_Employee_Data_Luis_G!B244) -> 35 | G17: {=_xlfn.XLOOKUP(E17,Challenge8_Employee_Data_Luis_G!A244:$A$4097,Challenge8_Employee_Data_Luis_G!D244:$D$4097)} -> 40399 | H17: =YEAR(NOW())-YEAR(G17) -> 13 | J17: Holland, Trisha | K17: 32 | L17: 41809 | M17: 9
E18: =Challenge8_Employee_Data_Luis_G!A249 -> Schifferdecker, Lauire | F18: =YEAR(NOW())-YEAR(Challenge8_Employee_Data_Luis_G!B249) -> 55 | G18: {=_xlfn.XLOOKUP(E18,Challenge8_Employee_Data_Luis_G!A249:$A$4097,Challenge8_Employee_Data_Luis_G!D249:$D$4097)} -> 40436 | H18: =YEAR(NOW())-YEAR(G18) -> 13 | J18: Savoie, Karina | K18: 60 | L18: 41682 | M18: 9
E19: =Challenge8_Employee_Data_Luis_G!A253 -> Tenenbown, Jaimee | F19: =YEAR(NOW())-YEAR(Challenge8_Employee_Data_Luis_G!B253) -> 69 | G19: {=_xlfn.XLOOKUP(E19,Challenge8_Employee_Data_Luis_G!A253:$A$4097,Challenge8_Employee_Data_Luis_G!D253:$D$4097)} -> 40400 | H19: =YEAR(NOW())-YEAR(G19) -> 13 | J19: Jacobson, Kayla | K19: 31 | L19: 41721 | M19: 9
E20: =Challenge8_Employee_Data_Luis_G!A260 -> Grenfell, Levesque | F20: =YEAR(NOW())-YEAR(Challenge8_Employee_Data_Luis_G!B260) -> 58 | G20: {=_xlfn.XLOOKUP(E20,Challenge8_Employee_Data_Luis_G!A260:$A$4097,Challenge8_Employee_Data_Luis_G!D260:$D$4097)} -> 40232 | H20: =YEAR(NOW())-YEAR(G20) -> 13 | J20: Stuckslager, Kiernan | K20: 25 | L20: 41807 | M20: 9
E21: =Challenge8_Employee_Data_Luis_G!A274 -> Jan, Sp1.Ltd | F21: =YEAR(NOW())-YEAR(Challenge8_Employee_Data_Luis_G!B274) -> 36 | G21: {=_xlfn.XLOOKUP(E21,Challenge8_Employee_Data_Luis_G!A274:$A$4097,Challenge8_Employee_Data_Luis_G!D274:$D$4097)} -> 40485 | H21: =YEAR(NOW())-YEAR(G21) -> 13 | J21: Marshall, Bettina | K21: 73 | L21: 41961 | M21: 9
E22: =Challenge8_Employee_Data_Luis_G!A284 -> Markie, Rocko | F22: =YEAR(NOW())-YEAR(Challenge8_Employee_Data_Luis_G!B284) -> 55 | G22: {=_xlfn.XLOOKUP(E22,Challenge8_Employee_Data_Luis_G!A284:$A$4097,Challenge8_Employee_Data_Luis_G!D284:$D$4097)} -> 40291 | H22: =YEAR(NOW())-YEAR(G22) -> 13 | J22: Cappon, Florine | K22: 56 | L22: 41644 | M22: 9
E23: =Challenge8_Employee_Data_Luis_G!A307 -> Seilheimer, Cheyenne | F23: =YEAR(NOW())-YEAR(Challenge8_Employee_Data_Luis_G!B307) -> 34 | G23: {=_xlfn.XLOOKUP(E23,Challenge8_Employee_Data_Luis_G!A307:$A$4097,Challenge8_Employee_Data_Luis_G!D307:$D$4097)} -> 40305 | H23: =YEAR(NOW())-YEAR(G23) -> 13 | J23: Hwang, Lillian | K23: 42 | L23: 41758 | M23: 9
E24: =Challenge8_Employee_Data_Luis_G!A316 -> Kunin, Benedetta | F24: =YEAR(NOW())-YEAR(Challenge8_Employee_Data_Luis_G!B316) -> 69 | G24: {=_xlfn.XLOOKUP(E24,Challenge8_Employee_Data_Luis_G!A316:$A$4097,Challenge8_Employee_Data_Luis_G!D316:$D$4097)} -> 40439 | H24: =YEAR(NOW())-YEAR(G24) -> 13 | J24: Bar, Stefny | K24: 62 | L24: 41769 | M24: 9
E25: =Challenge8_Employee_Data_Luis_G!A330 -> Sierra, Harry | F25: =YEAR(NOW())-YEAR(Challenge8_Employee_Data_Luis_G!B330) -> 64 | G25: {=_xlfn.XLOOKUP(E25,Challenge8_Employee_Data_Luis_G!A330:$A$4097,Challenge8_Employee_Data_Luis_G!D330:$D$4097)} -> 40188 | H25: =YEAR(NOW())-YEAR(G25) -> 13 | J25: Bookman, Shirelle | K25: 30 | L25: 41771 | M25: 9
E26: =Challenge8_Employee_Data_Luis_G!A339 -> Kazam, Ignacia | F26: =YEAR(NOW())-YEAR(Challenge8_Employee_Data_Luis_G!B339) -> 49 | G26: {=_xlfn.XLOOKUP(E26,Challenge8_Employee_Data_Luis_G!A339:$A$4097,Challenge8_Employee_Data_Luis_G!D339:$D$4097)} -> 40245 | H26: =YEAR(NOW())-YEAR(G26) -> 13 | J26: Radzko, Adria | K26: 33 | L26: 41640 | M26: 9
E27: =Challenge8_Employee_Data_Luis_G!A362 -> Corradino, Margarida | F27: =YEAR(NOW())-YEAR(Challenge8_Employee_Data_Luis_G!B362) -> 37 | G27: {=_xlfn.XLOOKUP(E27,Challenge8_Employee_Data_Luis_G!A362:$A$4097,Challenge8_Employee_Data_Luis_G!D362:$D$4097)} -> 40308 | H27: =YEAR(NOW())-YEAR(G27) -> 13 | J27: Castanos, Narcisa | K27: 56 | L27: 41862 | M27: 9
E28: =Challenge8_Employee_Data_Luis_G!A365 -> Barber, Adriane | F28: =YEAR(NOW())-YEAR(Challenge8_Employee_Data_Luis_G!B365) -> 34 | G28: {=_xlfn.XLOOKUP(E28,Challenge8_Employee_Data_Luis_G!A365:$A$4097,Challenge8_Employee_Data_Luis_G!D365:$D$4097)} -> 40198 | H28: =YEAR(NOW())-YEAR(G28) -> 13 | J28: Rocha, Ronald | K28: 36 | L28: 41953 | M28: 9
E29: =Challenge8_Employee_Data_Luis_G!A376 -> Carlyon, Desire | F29: =YEAR(NOW())-YEAR(Challenge8_Employee_Data_Luis_G!B376) -> 65 | G29: {=_xlfn.XLOOKUP(E29,Challenge8_Employee_Data_Luis_G!A376:$A$4097,Challenge8_Employee_Data_Luis_G!D376:$D$4097)} -> 40540 | H29: =YEAR(NOW())-YEAR(G29) -> 13 | J29: Steffens, Noelle | K29: 42 | L29: 41734 | M29: 9
E30: =Challenge8_Employee_Data_Luis_G!A392 -> Zoe, Bashi | F30: =YEAR(NOW())-YEAR(Challenge8_Employee_Data_Luis_G!B392) -> 26 | G30: {=_xlfn.XLOOKUP(E30,Challenge8_Employee_Data_Luis_G!A392:$A$4097,Challenge8_Employee_Data_Luis_G!D392:$D$4097)} -> 40237 | H30: =YEAR(NOW())-YEAR(G30) -> 13 | J30: Venezia, Osvelia | K30: 67 | L30: 41651 | M30: 9
E31: =Challenge8_Employee_Data_Luis_G!A415 -> Fitzgibbon, Somaiya | F31: =YEAR(NOW())-YEAR(Challenge8_Employee_Data_Luis_G!B415) -> 67 | G31: {=_xlfn.XLOOKUP(E31,Challenge8_Employee_Data_Luis_G!A415:$A$4097,Challenge8_Employee_Data_Luis_G!D415:$D$4097)} -> 40494 | H31: =YEAR(NOW())-YEAR(G31) -> 13 | J31: Giugno, Laurissa | K31: 67 | L31: 41650 | M31: 9
E32: =Challenge8_Employee_Data_Luis_G!A425 -> Finkel, Marnie | F32: =YEAR(NOW())-YEAR(Challenge8_Employee_Data_Luis_G!B425) -> 56 | G32: {=_xlfn.XLOOKUP(E32,Challenge8_Employee_Data_Luis_G!A425:$A$4097,Challenge8_Employee_Data_Luis_G!D425:$D$4097)} -> 40234 | H32: =YEAR(NOW())-YEAR(G32) -> 13 | J32: Clifford, Tedda | K32: 47 | L32: 41696 | M32: 9
E33: =Challenge8_Employee_Data_Luis_G!A432 -> Kinsey, Noorulain | F33: =YEAR(NOW())-YEAR(Challenge8_Employee_Data_Luis_G!B432) -> 34 | G33: {=_xlfn.XLOOKUP(E33,Challenge8_Employee_Data_Luis_G!A432:$A$4097,Challenge8_Employee_Data_Luis_G!D432:$D$4097)} -> 40198 | H33: =YEAR(NOW())-YEAR(G33) -> 13 | J33: Meyers, Crystal | K33: 65 | L33: 41775 | M33: 9
E34: =Challenge8_Employee_Data_Luis_G!A461 -> Alper, Agustin | F34: =YEAR(NOW())-YEAR(Challenge8_Employee_Data_Luis_G!B461) -> 24 | G34: {=_xlfn.XLOOKUP(E34,Challenge8_Employee_Data_Luis_G!A461:$A$4097,Challenge8_Employee_Data_Luis_G!D461:$D$4097)} -> 40519 | H34: =YEAR(NOW())-YEAR(G34) -> 13 | J34: D’Andrea, Malcolm | K34: 62 | L34: 41919 | M34: 9
E35: =Challenge8_Employee_Data_Luis_G!A470 -> Tritten, Reddin | F35: =YEAR(NOW())-YEAR(Challenge8_Employee_Data_Luis_G!B470) -> 52 | G35: {=_xlfn.XLOOKUP(E35,Challenge8_Employee_Data_Luis_G!A470:$A$4097,Challenge8_Employee_Data_Luis_G!D470:$D$4097)} -> 40493 | H35: =YEAR(NOW())-YEAR(G35) -> 13 | J35: Grapes, Libby | K35: 72 | L35: 41945 | M35: 9
E36: =Challenge8_Employee_Data_Luis_G!A474 -> Schönborn, Fisher | F36: =YEAR(NOW())-YEAR(Challenge8_Employee_Data_Luis_G!B474) -> 61 | G36: {=_xlfn.XLOOKUP(E36,Challenge8_Employee_Data_Luis_G!A474:$A$4097,Challenge8_Employee_Data_Luis_G!D474:$D$4097)} -> 40282 | H36: =YEAR(NOW())-YEAR(G36) -> 13 | J36: Hammer, Palma | K36: 38 | L36: 41780 | M36: 9
E37: =Challenge8_Employee_Data_Luis_G!A484 -> Sant, Carol | F37: =YEAR(NOW())-YEAR(Challenge8_Employee_Data_Luis_G!B484) -> 72 | G37: {=_xlfn.XLOOKUP(E37,Challenge8_Employee_Data_Luis_G!A484:$A$4097,Challenge8_Employee_Data_Luis_G!D484:$D$4097)} -> 40518 | H37: =YEAR(NOW())-YEAR(G37) -> 13 | J37: Agass, Felicity | K37: 32 | L37: 41826 | M37: 9
E38: =Challenge8_Employee_Data_Luis_G!A488 -> Osterhold, Ariana | F38: =YEAR(NOW())-YEAR(Challenge8_Employee_Data_Luis_G!B488) -> 60 | G38: {=_xlfn.XLOOKUP(E38,Challenge8_Employee_Data_Luis_G!A488:$A$4097,Challenge8_Employee_Data_Luis_G!D488:$D$4097)} -> 40497 | H38: =YEAR(NOW())-YEAR(G38) -> 13 | J38: Okoye, Betzy | K38: 41 | L38: 41869 | M38: 9
E39: =Challenge8_Employee_Data_Luis_G!A501 -> Katafias, Cristy | F39: =YEAR(NOW())-YEAR(Challenge8_Employee_Data_Luis_G!B501) -> 48 | G39: {=_xlfn.XLOOKUP(E39,Challenge8_Employee_Data_Luis_G!A501:$A$4097,Challenge8_Employee_Data_Luis_G!D501:$D$4097)} -> 40367 | H39: =YEAR(NOW())-YEAR(G39) -> 13 | J39: Tobias, Baillargeault | K39: 62 | L39: 41956 | M39: 9
E40: =Challenge8_Employee_Data_Luis_G!A534 -> Walking, Yanik | F40: =YEAR(NOW())-YEAR(Challenge8_Employee_Data_Luis_G!B534) -> 43 | G40: {=_xlfn.XLOOKUP(E40,Challenge8_Employee_Data_Luis_G!A534:$A$4097,Challenge8_Employee_Data_Luis_G!D534:$D$4097)} -> 40374 | H40: =YEAR(NOW())-YEAR(G40) -> 13 | J40: Chagnon, Ophira | K40: 57 | L40: 41798 | M40: 9
E41: =Challenge8_Employee_Data_Luis_G!A544 -> Howell, Laura/Bryan | F41: =YEAR(NOW())-YEAR(Challenge8_Employee_Data_Luis_G!B544) -> 37 | G41: {=_xlfn.XLOOKUP(E41,Challenge8_Employee_Data_Luis_G!A544:$A$4097,Challenge8_Employee_Data_Luis_G!D544:$D$4097)} -> 40238 | H41: =YEAR(NOW())-YEAR(G41) -> 13 | J41: Fyodor, Gregg | K41: 38 | L41: 41950 | M41: 9
...
