Workbook

Sheet Challenge8_Employee_Data
A1: EmployeeName | B1: BirthDate | C1: SSN | D1: HireDate | E1: HireDate(5+ Years) | F1: HireDate(10+ Years) | G1: Full Name
A2: Anderson, Maeve | B2: 31043 | C2: 203-55-3505 | D2: 43008 | E2: =IF(D2<DATEVALUE("1/1/2018"), TRUE, FALSE) -> FALSE | F2: =IF(D2<DATEVALUE("1/1/2013"), TRUE, FALSE) -> FALSE | G2: =MID(A2&" "&A2, SEARCH(" ",A2)+1,LEN(A2)-1) -> Maeve Anderson
A3: Prommer, Yozune | B3: 17474 | C3: 165-38-1199 | D3: 42432 | E3: =IF(D3<DATEVALUE("1/1/2018"), TRUE, FALSE) -> FALSE | F3: =IF(D3<DATEVALUE("1/1/2013"), TRUE, FALSE) -> FALSE | G3: =MID(A3&" "&A3, SEARCH(" ",A3)+1,LEN(A3)-1) -> Yozune Prommer
A4: Siamo, Dagoberto | B4: 24717 | C4: 769-84-2052 | D4: 41059 | E4: =IF(D4<DATEVALUE("1/1/2018"), TRUE, FALSE) -> TRUE | F4: =IF(D4<DATEVALUE("1/1/2013"), TRUE, FALSE) -> FALSE | G4: =MID(A4&" "&A4, SEARCH(" ",A4)+1,LEN(A4)-1) -> Dagoberto Siamo
A5: Adara, Bigler | B5: 24252 | C5: 338-89-6883 | D5: 39975 | E5: =IF(D5<DATEVALUE("1/1/2018"), TRUE, FALSE) -> TRUE | F5: =IF(D5<DATEVALUE("1/1/2013"), TRUE, FALSE) -> FALSE | G5: =MID(A5&" "&A5, SEARCH(" ",A5)+1,LEN(A5)-1) -> Bigler Adara
A6: Ufberg, Riccardo | B6: 22464 | C6: 812-54-9827 | D6: 40397 | E6: =IF(D6<DATEVALUE("1/1/2018"), TRUE, FALSE) -> TRUE | F6: =IF(D6<DATEVALUE("1/1/2013"), TRUE, FALSE) -> FALSE | G6: =MID(A6&" "&A6, SEARCH(" ",A6)+1,LEN(A6)-1) -> Riccardo Ufberg
A7: Pettis, Kim | B7: 21323 | C7: 901-52-5142 | D7: 38770 | E7: =IF(D7<DATEVALUE("1/1/2018"), TRUE, FALSE) -> TRUE | F7: =IF(D7<DATEVALUE("1/1/2013"), TRUE, FALSE) -> TRUE | G7: =MID(A7&" "&A7, SEARCH(" ",A7)+1,LEN(A7)-1) -> Kim Pettis
A8: Saidman, Urban | B8: 24329 | C8: 260-90-7047 | D8: 41957 | E8: =IF(D8<DATEVALUE("1/1/2018"), TRUE, FALSE) -> FALSE | F8: =IF(D8<DATEVALUE("1/1/2013"), TRUE, FALSE) -> FALSE | G8: =MID(A8&" "&A8, SEARCH(" ",A8)+1,LEN(A8)-1) -> Urban Saidman
A9: Hydock, Shanna | B9: 32976 | C9: 399-79-5482 | D9: 41780 | E9: =IF(D9<DATEVALUE("1/1/2018"), TRUE, FALSE) -> FALSE | F9: =IF(D9<DATEVALUE("1/1/2013"), TRUE, FALSE) -> FALSE | G9: =MID(A9&" "&A9, SEARCH(" ",A9)+1,LEN(A9)-1) -> Shanna Hydock
A10: Ewertsen, João | B10: 33227 | C10: 824-57-5237 | D10: 39913 | E10: =IF(D10<DATEVALUE("1/1/2018"), TRUE, FALSE) -> TRUE | F10: =IF(D10<DATEVALUE("1/1/2013"), TRUE, FALSE) -> FALSE | G10: =MID(A10&" "&A10, SEARCH(" ",A10)+1,LEN(A10)-1) -> João Ewertsen
A11: Walkin, Steffanie | B11: 20239 | C11: 308-76-9640 | D11: 43041 | E11: =IF(D11<DATEVALUE("1/1/2018"), TRUE, FALSE) -> FALSE | F11: =IF(D11<DATEVALUE("1/1/2013"), TRUE, FALSE) -> FALSE | G11: =MID(A11&" "&A11, SEARCH(" ",A11)+1,LEN(A11)-1) -> Steffanie Walkin
A12: Sarabia, Brynn | B12: 21934 | C12: 832-30-9052 | D12: 40679 | E12: =IF(D12<DATEVALUE("1/1/2018"), TRUE, FALSE) -> TRUE | F12: =IF(D12<DATEVALUE("1/1/2013"), TRUE, FALSE) -> FALSE | G12: =MID(A12&" "&A12, SEARCH(" ",A12)+1,LEN(A12)-1) -> Brynn Sarabia
A13: Ballen, Sabah | B13: 20607 | C13: 453-66-4507 | D13: 40178 | E13: =IF(D13<DATEVALUE("1/1/2018"), TRUE, FALSE) -> TRUE | F13: =IF(D13<DATEVALUE("1/1/2013"), TRUE, FALSE) -> FALSE | G13: =MID(A13&" "&A13, SEARCH(" ",A13)+1,LEN(A13)-1) -> Sabah Ballen
... A4097: Bussey, Miaulu | B4097: 34989 | C4097: 484-49-2646 | D4097: 41659 | E4097: =IF(D4097<DATEVALUE("1/1/2018"), TRUE, FALSE) -> FALSE | F4097: =IF(D4097<DATEVALUE("1/1/2013"), TRUE, FALSE) -> FALSE | G4097: =MID(A4097&" "&A4097, SEARCH(" ",A4097)+1,LEN(A4097)-1) -> Miaulu Bussey

Sheet 5Yrsago
A1: FullName | B1: HireDate (5+ Years)
A2: =IF(AND(Challenge8_Employee_Data!E2=TRUE, Challenge8_Employee_Data!F2=FALSE), Challenge8_Employee_Data!G2,"") | B2: =IF(AND(Challenge8_Employee_Data!E2=TRUE, Challenge8_Employee_Data!F2=FALSE), Challenge8_Employee_Data!D2,"")
A3: =IF(AND(Challenge8_Employee_Data!E3=TRUE, Challenge8_Employee_Data!F3=FALSE), Challenge8_Employee_Data!G3,"") | B3: =IF(AND(Challenge8_Employee_Data!E3=TRUE, Challenge8_Employee_Data!F3=FALSE), Challenge8_Employee_Data!D3,"")
A4: =IF(AND(Challenge8_Employee_Data!E3402=TRUE, Challenge8_Employee_Data!F3402=FALSE), Challenge8_Employee_Data!G3402,"") | B4: =IF(AND(Challenge8_Employee_Data!E3402=TRUE, Challenge8_Employee_Data!F3402=FALSE), Challenge8_Employee_Data!D3402,"")
A5: =IF(AND(Challenge8_Employee_Data!E1777=TRUE, Challenge8_Employee_Data!F1777=FALSE), Challenge8_Employee_Data!G1777,"") -> Blaise Manspeizer | B5: =IF(AND(Challenge8_Employee_Data!E1777=TRUE, Challenge8_Employee_Data!F1777=FALSE), Challenge8_Employee_Data!D1777,"") -> 41638
A6: =IF(AND(Challenge8_Employee_Data!E1517=TRUE, Challenge8_Employee_Data!F1517=FALSE), Challenge8_Employee_Data!G1517,"") -> Krawczyk Guérette | B6: =IF(AND(Challenge8_Employee_Data!E1517=TRUE, Challenge8_Employee_Data!F1517=FALSE), Challenge8_Employee_Data!D1517,"") -> 41637
A7: =IF(AND(Challenge8_Employee_Data!E7=TRUE, Challenge8_Employee_Data!F7=FALSE), Challenge8_Employee_Data!G7,"") | B7: =IF(AND(Challenge8_Employee_Data!E7=TRUE, Challenge8_Employee_Data!F7=FALSE), Challenge8_Employee_Data!D7,"")
A8: =IF(AND(Challenge8_Employee_Data!E8=TRUE, Challenge8_Employee_Data!F8=FALSE), Challenge8_Employee_Data!G8,"") | B8: =IF(AND(Challenge8_Employee_Data!E8=TRUE, Challenge8_Employee_Data!F8=FALSE), Challenge8_Employee_Data!D8,"")
A9: =IF(AND(Challenge8_Employee_Data!E9=TRUE, Challenge8_Employee_Data!F9=FALSE), Challenge8_Employee_Data!G9,"") | B9: =IF(AND(Challenge8_Employee_Data!E9=TRUE, Challenge8_Employee_Data!F9=FALSE), Challenge8_Employee_Data!D9,"")
A10: =IF(AND(Challenge8_Employee_Data!E2011=TRUE, Challenge8_Employee_Data!F2011=FALSE), Challenge8_Employee_Data!G2011,"") -> Edward Valle | B10: =IF(AND(Challenge8_Employee_Data!E2011=TRUE, Challenge8_Employee_Data!F2011=FALSE), Challenge8_Employee_Data!D2011,"") -> 41634
A11: =IF(AND(Challenge8_Employee_Data!E11=TRUE, Challenge8_Employee_Data!F11=FALSE), Challenge8_Employee_Data!G11,"") | B11: =IF(AND(Challenge8_Employee_Data!E11=TRUE, Challenge8_Employee_Data!F11=FALSE), Challenge8_Employee_Data!D11,"")
A12: =IF(AND(Challenge8_Employee_Data!E3454=TRUE, Challenge8_Employee_Data!F3454=FALSE), Challenge8_Employee_Data!G3454,"") -> Sharon Lara | B12: =IF(AND(Challenge8_Employee_Data!E3454=TRUE, Challenge8_Employee_Data!F3454=FALSE), Challenge8_Employee_Data!D3454,"") -> 41634
A13: =IF(AND(Challenge8_Employee_Data!E41=TRUE, Challenge8_Employee_Data!F41=FALSE), Challenge8_Employee_Data!G41,"") -> Sibo Carnegie | B13: =IF(AND(Challenge8_Employee_Data!E41=TRUE, Challenge8_Employee_Data!F41=FALSE), Challenge8_Employee_Data!D41,"") -> 41632
A14: =IF(AND(Challenge8_Employee_Data!E14=TRUE, Challenge8_Employee_Data!F14=FALSE), Challenge8_Employee_Data!G14,"") | B14: =IF(AND(Challenge8_Employee_Data!E14=TRUE, Challenge8_Employee_Data!F14=FALSE), Challenge8_Employee_Data!D14,"")
A15: =IF(AND(Challenge8_Employee_Data!E18=TRUE, Challenge8_Employee_Data!F18=FALSE), Challenge8_Employee_Data!G18,"") -> Duplicate Argáez | B15: =IF(AND(Challenge8_Employee_Data!E18=TRUE, Challenge8_Employee_Data!F18=FALSE), Challenge8_Employee_Data!D18,"") -> 41631
A16: =IF(AND(Challenge8_Employee_Data!E16=TRUE, Challenge8_Employee_Data!F16=FALSE), Challenge8_Employee_Data!G16,"") | B16: =IF(AND(Challenge8_Employee_Data!E16=TRUE, Challenge8_Employee_Data!F16=FALSE), Challenge8_Employee_Data!D16,"")
A17: =IF(AND(Challenge8_Employee_Data!E17=TRUE, Challenge8_Employee_Data!F17=FALSE), Challenge8_Employee_Data!G17,"") | B17: =IF(AND(Challenge8_Employee_Data!E17=TRUE, Challenge8_Employee_Data!F17=FALSE), Challenge8_Employee_Data!D17,"")
A18: =IF(AND(Challenge8_Employee_Data!E2519=TRUE, Challenge8_Employee_Data!F2519=FALSE), Challenge8_Employee_Data!G2519,"") -> Will Benz | B18: =IF(AND(Challenge8_Employee_Data!E2519=TRUE, Challenge8_Employee_Data!F2519=FALSE), Challenge8_Employee_Data!D2519,"") -> 41630
A19: =IF(AND(Challenge8_Employee_Data!E19=TRUE, Challenge8_Employee_Data!F19=FALSE), Challenge8_Employee_Data!G19,"") | B19: =IF(AND(Challenge8_Employee_Data!E19=TRUE, Challenge8_Employee_Data!F19=FALSE), Challenge8_Employee_Data!D19,"")
A20: =IF(AND(Challenge8_Employee_Data!E4009=TRUE, Challenge8_Employee_Data!F4009=FALSE), Challenge8_Employee_Data!G4009,"") -> Katarina Tolibas | B20: =IF(AND(Challenge8_Employee_Data!E4009=TRUE, Challenge8_Employee_Data!F4009=FALSE), Challenge8_Employee_Data!D4009,"") -> 41630
A21: =IF(AND(Challenge8_Employee_Data!E21=TRUE, Challenge8_Employee_Data!F21=FALSE), Challenge8_Employee_Data!G21,"") | B21: =IF(AND(Challenge8_Employee_Data!E21=TRUE, Challenge8_Employee_Data!F21=FALSE), Challenge8_Employee_Data!D21,"")
A22: =IF(AND(Challenge8_Employee_Data!E524=TRUE, Challenge8_Employee_Data!F524=FALSE), Challenge8_Employee_Data!G524,"") -> Conville Giessen | B22: =IF(AND(Challenge8_Employee_Data!E524=TRUE, Challenge8_Employee_Data!F524=FALSE), Challenge8_Employee_Data!D524,"") -> 41629
A23: =IF(AND(Challenge8_Employee_Data!E23=TRUE, Challenge8_Employee_Data!F23=FALSE), Challenge8_Employee_Data!G23,"") | B23: =IF(AND(Challenge8_Employee_Data!E23=TRUE, Challenge8_Employee_Data!F23=FALSE), Challenge8_Employee_Data!D23,"")
A24: =IF(AND(Challenge8_Employee_Data!E2275=TRUE, Challenge8_Employee_Data!F2275=FALSE), Challenge8_Employee_Data!G2275,"") -> Shari Goodridge | B24: =IF(AND(Challenge8_Employee_Data!E2275=TRUE, Challenge8_Employee_Data!F2275=FALSE), Challenge8_Employee_Data!D2275,"") -> 41629
A25: =IF(AND(Challenge8_Employee_Data!E2851=TRUE, Challenge8_Employee_Data!F2851=FALSE), Challenge8_Employee_Data!G2851,"") -> Samaria Abito | B25: =IF(AND(Challenge8_Employee_Data!E2851=TRUE, Challenge8_Employee_Data!F2851=FALSE), Challenge8_Employee_Data!D2851,"") -> 41629
A26: =IF(AND(Challenge8_Employee_Data!E26=TRUE, Challenge8_Employee_Data!F26=FALSE), Challenge8_Employee_Data!G26,"") | B26: =IF(AND(Challenge8_Employee_Data!E26=TRUE, Challenge8_Employee_Data!F26=FALSE), Challenge8_Employee_Data!D26,"")
A27: =IF(AND(Challenge8_Employee_Data!E27=TRUE, Challenge8_Employee_Data!F27=FALSE), Challenge8_Employee_Data!G27,"") | B27: =IF(AND(Challenge8_Employee_Data!E27=TRUE, Challenge8_Employee_Data!F27=FALSE), Challenge8_Employee_Data!D27,"")
A28: =IF(AND(Challenge8_Employee_Data!E28=TRUE, Challenge8_Employee_Data!F28=FALSE), Challenge8_Employee_Data!G28,"") | B28: =IF(AND(Challenge8_Employee_Data!E28=TRUE, Challenge8_Employee_Data!F28=FALSE), Challenge8_Employee_Data!D28,"")
A29: =IF(AND(Challenge8_Employee_Data!E2190=TRUE, Challenge8_Employee_Data!F2190=FALSE), Challenge8_Employee_Data!G2190,"") -> Higinio Vahaviolos | B29: =IF(AND(Challenge8_Employee_Data!E2190=TRUE, Challenge8_Employee_Data!F2190=FALSE), Challenge8_Employee_Data!D2190,"") -> 41626
A30: =IF(AND(Challenge8_Employee_Data!E3064=TRUE, Challenge8_Employee_Data!F3064=FALSE), Challenge8_Employee_Data!G3064,"") -> Ernesto Nando | B30: =IF(AND(Challenge8_Employee_Data!E3064=TRUE, Challenge8_Employee_Data!F3064=FALSE), Challenge8_Employee_Data!D3064,"") -> 41626
A31: =IF(AND(Challenge8_Employee_Data!E31=TRUE, Challenge8_Employee_Data!F31=FALSE), Challenge8_Employee_Data!G31,"") | B31: =IF(AND(Challenge8_Employee_Data!E31=TRUE, Challenge8_Employee_Data!F31=FALSE), Challenge8_Employee_Data!D31,"")
A32: =IF(AND(Challenge8_Employee_Data!E3134=TRUE, Challenge8_Employee_Data!F3134=FALSE), Challenge8_Employee_Data!G3134,"") -> Barrow Alan | B32: =IF(AND(Challenge8_Employee_Data!E3134=TRUE, Challenge8_Employee_Data!F3134=FALSE), Challenge8_Employee_Data!D3134,"") -> 41626
A33: =IF(AND(Challenge8_Employee_Data!E33=TRUE, Challenge8_Employee_Data!F33=FALSE), Challenge8_Employee_Data!G33,"") | B33: =IF(AND(Challenge8_Employee_Data!E33=TRUE, Challenge8_Employee_Data!F33=FALSE), Challenge8_Employee_Data!D33,"")
A34: =IF(AND(Challenge8_Employee_Data!E34=TRUE, Challenge8_Employee_Data!F34=FALSE), Challenge8_Employee_Data!G34,"") | B34: =IF(AND(Challenge8_Employee_Data!E34=TRUE, Challenge8_Employee_Data!F34=FALSE), Challenge8_Employee_Data!D34,"")
A35: =IF(AND(Challenge8_Employee_Data!E35=TRUE, Challenge8_Employee_Data!F35=FALSE), Challenge8_Employee_Data!G35,"") | B35: =IF(AND(Challenge8_Employee_Data!E35=TRUE, Challenge8_Employee_Data!F35=FALSE), Challenge8_Employee_Data!D35,"")
A36: =IF(AND(Challenge8_Employee_Data!E704=TRUE, Challenge8_Employee_Data!F704=FALSE), Challenge8_Employee_Data!G704,"") -> Osborn Good | B36: =IF(AND(Challenge8_Employee_Data!E704=TRUE, Challenge8_Employee_Data!F704=FALSE), Challenge8_Employee_Data!D704,"") -> 41623
A37: =IF(AND(Challenge8_Employee_Data!E37=TRUE, Challenge8_Employee_Data!F37=FALSE), Challenge8_Employee_Data!G37,"") | B37: =IF(AND(Challenge8_Employee_Data!E37=TRUE, Challenge8_Employee_Data!F37=FALSE), Challenge8_Employee_Data!D37,"")
A38: =IF(AND(Challenge8_Employee_Data!E1863=TRUE, Challenge8_Employee_Data!F1863=FALSE), Challenge8_Employee_Data!G1863,"") -> Gemma/Jason Polishook | B38: =IF(AND(Challenge8_Employee_Data!E1863=TRUE, Challenge8_Employee_Data!F1863=FALSE), Challenge8_Employee_Data!D1863,"") -> 41623
A39: =IF(AND(Challenge8_Employee_Data!E891=TRUE, Challenge8_Employee_Data!F891=FALSE), Challenge8_Employee_Data!G891,"") -> Oriana Noname | B39: =IF(AND(Challenge8_Employee_Data!E891=TRUE, Challenge8_Employee_Data!F891=FALSE), Challenge8_Employee_Data!D891,"") -> 41622
A40: =IF(AND(Challenge8_Employee_Data!E549=TRUE, Challenge8_Employee_Data!F549=FALSE), Challenge8_Employee_Data!G549,"") -> Moral Christopherson | B40: =IF(AND(Challenge8_Employee_Data!E549=TRUE, Challenge8_Employee_Data!F549=FALSE), Challenge8_Employee_Data!D549,"") -> 41621
...

Sheet 10Yrsago
A1: FullName | B1: HireDate (10+ Years)
A2: =IF(Challenge8_Employee_Data!F2=TRUE, Challenge8_Employee_Data!G2,"") | B2: =IF(Challenge8_Employee_Data!F2=TRUE, Challenge8_Employee_Data!D2,"")
A3: =IF(Challenge8_Employee_Data!F3=TRUE, Challenge8_Employee_Data!G3,"") | B3: =IF(Challenge8_Employee_Data!F3=TRUE, Challenge8_Employee_Data!D3,"")
A4: =IF(Challenge8_Employee_Data!F4=TRUE, Challenge8_Employee_Data!G4,"") | B4: =IF(Challenge8_Employee_Data!F4=TRUE, Challenge8_Employee_Data!D4,"")
A5: =IF(Challenge8_Employee_Data!F5=TRUE, Challenge8_Employee_Data!G5,"") | B5: =IF(Challenge8_Employee_Data!F5=TRUE, Challenge8_Employee_Data!D5,"")
A6: =IF(Challenge8_Employee_Data!F6=TRUE, Challenge8_Employee_Data!G6,"") | B6: =IF(Challenge8_Employee_Data!F6=TRUE, Challenge8_Employee_Data!D6,"")
A7: =IF(Challenge8_Employee_Data!F621=TRUE, Challenge8_Employee_Data!G621,"") | B7: =IF(Challenge8_Employee_Data!F621=TRUE, Challenge8_Employee_Data!D621,"")
A8: =IF(Challenge8_Employee_Data!F8=TRUE, Challenge8_Employee_Data!G8,"") | B8: =IF(Challenge8_Employee_Data!F8=TRUE, Challenge8_Employee_Data!D8,"")
A9: =IF(Challenge8_Employee_Data!F9=TRUE, Challenge8_Employee_Data!G9,"") | B9: =IF(Challenge8_Employee_Data!F9=TRUE, Challenge8_Employee_Data!D9,"")
A10: =IF(Challenge8_Employee_Data!F10=TRUE, Challenge8_Employee_Data!G10,"") | B10: =IF(Challenge8_Employee_Data!F10=TRUE, Challenge8_Employee_Data!D10,"")
A11: =IF(Challenge8_Employee_Data!F11=TRUE, Challenge8_Employee_Data!G11,"") | B11: =IF(Challenge8_Employee_Data!F11=TRUE, Challenge8_Employee_Data!D11,"")
A12: =IF(Challenge8_Employee_Data!F12=TRUE, Challenge8_Employee_Data!G12,"") | B12: =IF(Challenge8_Employee_Data!F12=TRUE, Challenge8_Employee_Data!D12,"")
A13: =IF(Challenge8_Employee_Data!F13=TRUE, Challenge8_Employee_Data!G13,"") | B13: =IF(Challenge8_Employee_Data!F13=TRUE, Challenge8_Employee_Data!D13,"")
A14: =IF(Challenge8_Employee_Data!F354=TRUE, Challenge8_Employee_Data!G354,"") -> Tiffeani Dismore | B14: =IF(Challenge8_Employee_Data!F354=TRUE, Challenge8_Employee_Data!D354,"") -> 39812
A15: =IF(Challenge8_Employee_Data!F15=TRUE, Challenge8_Employee_Data!G15,"") | B15: =IF(Challenge8_Employee_Data!F15=TRUE, Challenge8_Employee_Data!D15,"")
A16: =IF(Challenge8_Employee_Data!F16=TRUE, Challenge8_Employee_Data!G16,"") | B16: =IF(Challenge8_Employee_Data!F16=TRUE, Challenge8_Employee_Data!D16,"")
A17: =IF(Challenge8_Employee_Data!F17=TRUE, Challenge8_Employee_Data!G17,"") | B17: =IF(Challenge8_Employee_Data!F17=TRUE, Challenge8_Employee_Data!D17,"")
A18: =IF(Challenge8_Employee_Data!F18=TRUE, Challenge8_Employee_Data!G18,"") | B18: =IF(Challenge8_Employee_Data!F18=TRUE, Challenge8_Employee_Data!D18,"")
A19: =IF(Challenge8_Employee_Data!F19=TRUE, Challenge8_Employee_Data!G19,"") | B19: =IF(Challenge8_Employee_Data!F19=TRUE, Challenge8_Employee_Data!D19,"")
A20: =IF(Challenge8_Employee_Data!F20=TRUE, Challenge8_Employee_Data!G20,"") | B20: =IF(Challenge8_Employee_Data!F20=TRUE, Challenge8_Employee_Data!D20,"")
A21: =IF(Challenge8_Employee_Data!F3521=TRUE, Challenge8_Employee_Data!G3521,"") -> Faviola Brazeau | B21: =IF(Challenge8_Employee_Data!F3521=TRUE, Challenge8_Employee_Data!D3521,"") -> 39812
A22: =IF(Challenge8_Employee_Data!F22=TRUE, Challenge8_Employee_Data!G22,"") | B22: =IF(Challenge8_Employee_Data!F22=TRUE, Challenge8_Employee_Data!D22,"")
A23: =IF(Challenge8_Employee_Data!F23=TRUE, Challenge8_Employee_Data!G23,"") | B23: =IF(Challenge8_Employee_Data!F23=TRUE, Challenge8_Employee_Data!D23,"")
A24: =IF(Challenge8_Employee_Data!F24=TRUE, Challenge8_Employee_Data!G24,"") | B24: =IF(Challenge8_Employee_Data!F24=TRUE, Challenge8_Employee_Data!D24,"")
A25: =IF(Challenge8_Employee_Data!F25=TRUE, Challenge8_Employee_Data!G25,"") | B25: =IF(Challenge8_Employee_Data!F25=TRUE, Challenge8_Employee_Data!D25,"")
A26: =IF(Challenge8_Employee_Data!F26=TRUE, Challenge8_Employee_Data!G26,"") | B26: =IF(Challenge8_Employee_Data!F26=TRUE, Challenge8_Employee_Data!D26,"")
A27: =IF(Challenge8_Employee_Data!F27=TRUE, Challenge8_Employee_Data!G27,"") | B27: =IF(Challenge8_Employee_Data!F27=TRUE, Challenge8_Employee_Data!D27,"")
A28: =IF(Challenge8_Employee_Data!F218=TRUE, Challenge8_Employee_Data!G218,"") -> Veronik Laird | B28: =IF(Challenge8_Employee_Data!F218=TRUE, Challenge8_Employee_Data!D218,"") -> 39811
A29: =IF(Challenge8_Employee_Data!F29=TRUE, Challenge8_Employee_Data!G29,"") | B29: =IF(Challenge8_Employee_Data!F29=TRUE, Challenge8_Employee_Data!D29,"")
A30: =IF(Challenge8_Employee_Data!F30=TRUE, Challenge8_Employee_Data!G30,"") | B30: =IF(Challenge8_Employee_Data!F30=TRUE, Challenge8_Employee_Data!D30,"")
A31: =IF(Challenge8_Employee_Data!F31=TRUE, Challenge8_Employee_Data!G31,"") | B31: =IF(Challenge8_Employee_Data!F31=TRUE, Challenge8_Employee_Data!D31,"")
A32: =IF(Challenge8_Employee_Data!F32=TRUE, Challenge8_Employee_Data!G32,"") | B32: =IF(Challenge8_Employee_Data!F32=TRUE, Challenge8_Employee_Data!D32,"")
A33: =IF(Challenge8_Employee_Data!F33=TRUE, Challenge8_Employee_Data!G33,"") | B33: =IF(Challenge8_Employee_Data!F33=TRUE, Challenge8_Employee_Data!D33,"")
A34: =IF(Challenge8_Employee_Data!F34=TRUE, Challenge8_Employee_Data!G34,"") | B34: =IF(Challenge8_Employee_Data!F34=TRUE, Challenge8_Employee_Data!D34,"")
A35: =IF(Challenge8_Employee_Data!F35=TRUE, Challenge8_Employee_Data!G35,"") | B35: =IF(Challenge8_Employee_Data!F35=TRUE, Challenge8_Employee_Data!D35,"")
A36: =IF(Challenge8_Employee_Data!F36=TRUE, Challenge8_Employee_Data!G36,"") | B36: =IF(Challenge8_Employee_Data!F36=TRUE, Challenge8_Employee_Data!D36,"")
A37: =IF(Challenge8_Employee_Data!F37=TRUE, Challenge8_Employee_Data!G37,"") | B37: =IF(Challenge8_Employee_Data!F37=TRUE, Challenge8_Employee_Data!D37,"")
A38: =IF(Challenge8_Employee_Data!F38=TRUE, Challenge8_Employee_Data!G38,"") | B38: =IF(Challenge8_Employee_Data!F38=TRUE, Challenge8_Employee_Data!D38,"")
A39: =IF(Challenge8_Employee_Data!F39=TRUE, Challenge8_Employee_Data!G39,"") | B39: =IF(Challenge8_Employee_Data!F39=TRUE, Challenge8_Employee_Data!D39,"")
A40: =IF(Challenge8_Employee_Data!F40=TRUE, Challenge8_Employee_Data!G40,"") | B40: =IF(Challenge8_Employee_Data!F40=TRUE, Challenge8_Employee_Data!D40,"")
...
